BEGIN:VCALENDAR
VERSION:2.0
PRODID:-//C.M.A.K. Cerkno - ECPv5.10.0//NONSGML v1.0//EN
CALSCALE:GREGORIAN
METHOD:PUBLISH
X-WR-CALNAME:C.M.A.K. Cerkno
X-ORIGINAL-URL:https://cmakcerkno.net
X-WR-CALDESC:Events for C.M.A.K. Cerkno
BEGIN:VTIMEZONE
TZID:Europe/Ljubljana
BEGIN:DAYLIGHT
TZOFFSETFROM:+0100
TZOFFSETTO:+0200
TZNAME:CEST
DTSTART:20180325T010000
END:DAYLIGHT
BEGIN:STANDARD
TZOFFSETFROM:+0200
TZOFFSETTO:+0100
TZNAME:CET
DTSTART:20181028T010000
END:STANDARD
END:VTIMEZONE
BEGIN:VEVENT
DTSTART;TZID=Europe/Ljubljana:20180427T220000
DTEND;TZID=Europe/Ljubljana:20180428T220000
DTSTAMP:20260419T190043
CREATED:20180419T111044Z
LAST-MODIFIED:20180419T111044Z
UID:2951-1524866400-1524952800@cmakcerkno.net
SUMMARY:B2 CMAK
DESCRIPTION:Člani SmokeIn Crew so se odločili da bodo 27.4. 2018 v MC C.M.A.K. Cerkno party naredili. V goste so tokrat povabili:\n– Andraž Vidmar aka. Andreas V\n– Aljaž Gnezda aka. Eliaz\n– Anže Likar in Anže Tratnik aka. Tixti. b2b Lixi.\n+\n– Jan Svigelj in Blaž Švigelj aka. Schvigalo brothers\n– Lenart Dopudja aka. Dope
URL:https://cmakcerkno.net/event/b2-cmak/
LOCATION:C.M.A.K. Cerkno\, Bevkova ulica 22\, Cerkno\, 5282\, Slovenija
CATEGORIES:Klubski večer
ATTACH;FMTTYPE=image/jpeg:https://cmakcerkno.net/wp-content/uploads/2018/04/B2_CMAK.jpg
END:VEVENT
END:VCALENDAR