BEGIN:VCALENDAR
VERSION:2.0
PRODID:-//C.M.A.K. Cerkno - ECPv5.10.0//NONSGML v1.0//EN
CALSCALE:GREGORIAN
METHOD:PUBLISH
X-WR-CALNAME:C.M.A.K. Cerkno
X-ORIGINAL-URL:https://cmakcerkno.net
X-WR-CALDESC:Events for C.M.A.K. Cerkno
BEGIN:VTIMEZONE
TZID:Europe/Ljubljana
BEGIN:DAYLIGHT
TZOFFSETFROM:+0100
TZOFFSETTO:+0200
TZNAME:CEST
DTSTART:20160327T010000
END:DAYLIGHT
BEGIN:STANDARD
TZOFFSETFROM:+0200
TZOFFSETTO:+0100
TZNAME:CET
DTSTART:20161030T010000
END:STANDARD
END:VTIMEZONE
BEGIN:VEVENT
DTSTART;TZID=Europe/Ljubljana:20161112T220000
DTEND;TZID=Europe/Ljubljana:20161112T235500
DTSTAMP:20260420T051026
CREATED:20161108T104434Z
LAST-MODIFIED:20161108T104434Z
UID:2005-1478988000-1478994900@cmakcerkno.net
SUMMARY:Apeirofobia fest / CMAKoncert: La Fin (It) in Scatter
DESCRIPTION:Apeirofobija\, strah pred neskončnostjo\, letos ga bomo pregnali z vstopom v neskončno morje glasbeLa Fin (It)Gre za šestčlansko zasedbo iz Milana. Njihova glasba je mešanica post-metala\, post-rocka\, progresive\, death in black metala. ČlaniMarco Balzano (vocal folds) Lorenzo Ruggiero (8 strings) Loris Laugelli (7 strings) Michele Banfi (6 strings) Federico La Torre (5 strings)\nRiccardo Marino (drum sticks) \nhttps://www.facebook.com/LaFinOfficial/\nhttp://lafin.bandcamp.com/ \nScatter \nTrio iz Lendave\, ki ustvarja stoner\, desert\, sludge metal glasbo. \nČlani\nSven(Guitar)\,\nVito(Bass)\,\nAndrej(Drums). \nhttps://www.facebook.com/scatterband/ \nvstopnina: 3€
URL:https://cmakcerkno.net/event/apeirofobia-fest-cmakoncert-la-fin-it-in-scatter/
CATEGORIES:CMAKoncert
ATTACH;FMTTYPE=image/jpeg:https://cmakcerkno.net/wp-content/uploads/2016/11/apeirofobia_fest2016FBtimeline.jpg
END:VEVENT
END:VCALENDAR