BEGIN:VCALENDAR
VERSION:2.0
PRODID:-//C.M.A.K. Cerkno - ECPv5.10.0//NONSGML v1.0//EN
CALSCALE:GREGORIAN
METHOD:PUBLISH
X-WR-CALNAME:C.M.A.K. Cerkno
X-ORIGINAL-URL:https://cmakcerkno.net
X-WR-CALDESC:Events for C.M.A.K. Cerkno
BEGIN:VTIMEZONE
TZID:Europe/Ljubljana
BEGIN:DAYLIGHT
TZOFFSETFROM:+0100
TZOFFSETTO:+0200
TZNAME:CEST
DTSTART:20200329T010000
END:DAYLIGHT
BEGIN:STANDARD
TZOFFSETFROM:+0200
TZOFFSETTO:+0100
TZNAME:CET
DTSTART:20201025T010000
END:STANDARD
END:VTIMEZONE
BEGIN:VEVENT
DTSTART;TZID=Europe/Ljubljana:20201220T200000
DTEND;TZID=Europe/Ljubljana:20201220T210000
DTSTAMP:20260421T001544
CREATED:20201220T165315Z
LAST-MODIFIED:20201220T165315Z
UID:4058-1608494400-1608498000@cmakcerkno.net
SUMMARY:Anja G. & Dr. Obi - CMAKoncert live act stream
DESCRIPTION:V drugem letošnjem CMAKoncert-nem livestreamu\, ki se bo zgodil v nedeljo\, 20.12. ob 20.00\, se nam bosta v njunem prav tako drugem live act set-u predstavila mlada Anja G. & Dr. Obi iz Zagreba.\nRaziskujeta različne sloge dub reggae-ja; od rootsa do digitalnega\, navdih za glasbo pa črpata iz družbenih\, političnih in gospodarskih razmer\, kakor tudi iz vsakdanjega življenja.\n\n \n\nLetošnji EP “Sky it a go red” ~ https://cutt.ly/phFvX7s\n\n \n\nDr.obi je začel svojo glasbeno pot leta 2005 v Zagrebu\, s svojim še vedno aktivnim projektom Jahstice Sound. Od leta 2005 je bil član najbolj vplivnih dub in reggae projektov na Hrvaškem. Svoje znanje je nadgrajeval skozi leta v sodelovanju z Digitron Sound Systemom. Trenutno dela kot audio inženir za mnoge hrvaške bende kakor tudi za Pozitivan Ritam\, kjer se podpisuje kot glavni tehnik Seasplash festivala. V začetku leta 2017 je v sodelovanju z Anjo G začel z ustvarjanjem lastne produkcije.\n~ Dr.Obi SoundCloud: https://soundcloud.com/dr-obi-official\n\n \n\nAnja G je mlada prihajajoča pevka\, ki je leta 2017 izdala svoj prvi singl “The Meaning”. Od leta 2017 je nastopala na večini pomembnejših reggae in dub dogodkih na hrvaškem in regiji (Seasplash Festival\, Dub Lab\, Love & Rage (Italija) in na številnih klubskih večerih).\n~ Anja G SoundCloud: https://soundcloud.com/anja_g\n\n \n\nAmpliFyah Music je neodvisna založniška platforma za uveljavljene producente in umetnike dub in reggae glasbe\, ki podpirajo in spodbujajo njihovo prisotnost na lokalni\, evropski in svetovni sceni. Poslanstvo AmpliFyah Music je razvoj in izboljšanje lokalne reggae skupnosti\, podpiranje umetnikov na poti ustvarjalnosti ter širjenje besede o kakovosti hrvaških reggae umetnikov in glasbe.\n~ Amplifyah SoundCloud: https://soundcloud.com/amplifyahmusic~\n~ Amplifyah Bandcamp: amplifyah.bandcamp.com/
URL:https://cmakcerkno.net/event/anja-g-dr-obi-cmakoncert-live-act-stream/
LOCATION:Svetovni splet
CATEGORIES:CMAKoncert
END:VEVENT
END:VCALENDAR