BEGIN:VCALENDAR
VERSION:2.0
PRODID:-//C.M.A.K. Cerkno - ECPv5.10.0//NONSGML v1.0//EN
CALSCALE:GREGORIAN
METHOD:PUBLISH
X-WR-CALNAME:C.M.A.K. Cerkno
X-ORIGINAL-URL:https://cmakcerkno.net
X-WR-CALDESC:Events for C.M.A.K. Cerkno
BEGIN:VTIMEZONE
TZID:Europe/Ljubljana
BEGIN:DAYLIGHT
TZOFFSETFROM:+0100
TZOFFSETTO:+0200
TZNAME:CEST
DTSTART:20150329T010000
END:DAYLIGHT
BEGIN:STANDARD
TZOFFSETFROM:+0200
TZOFFSETTO:+0100
TZNAME:CET
DTSTART:20151025T010000
END:STANDARD
END:VTIMEZONE
BEGIN:VEVENT
DTSTART;TZID=Europe/Ljubljana:20150410T200000
DTEND;TZID=Europe/Ljubljana:20150410T214000
DTSTAMP:20260419T225206
CREATED:20150330T154223Z
LAST-MODIFIED:20150402T074154Z
UID:1076-1428696000-1428702000@cmakcerkno.net
SUMMARY:Animateka po Animateki osmič!
DESCRIPTION:Projekt Animateka po Animateki že osmo leto na platna različnih velikosti in oblik prinaša nabor najboljših filmov iz zadnje edicije Mednarodnega festivala animiranega filma Animateka\, ki se decembra odvija v Ljubljani. Deset kratkih animacij\, ki so navdušile žirante\, občinstvo in člane festivalske ekipe predstavlja različne poglede na življenje\, razkriva mnoštvo tehnik animiranja in odpira vprašanja o svetu okrog nas. Deset animiranih filmov za odrasle oči\, ki so tako dobri\, da jih je preprosto treba videti. Tudi letos seveda brezplačno! \nPROGRAM:\nProgram je primeren za starost od 12. leta naprej.\nVeč o festivalu Animateka in filmih\, ki jih ta ponuja\, lahko najdete na spletni strani www.animateka.si \n1. Aubade\nMauro Carraro (Nadasdy Film)\, Švica\, 2014\, 6:00\nNad Ženevskim jezerom se dviga črno sonce. Plavalci in ptice v nadrealističnem prizoru protisvetlobe ob hipnotizirajoči glasbi čelista spremljajo predstavo\, ki jo uprizori zora. \n2. Tebi v srce\nEwa Borysewicz (Serafinski Studio\, Animaso)\, Poljska\, 2014\, 10:08\nVELIKA NAGRADA MEDNARODNE ŽIRIJE RTVSLO\nImamo žvečilko\, imamo gugalnico\, torej mora biti – nekje – tudi ljubezen. Posvetne litanije in zgodba o odnosu\, ki odmeva po blokovskem naselju. \n3. Timber\nNils Hedinger (Pret-a-tourner filmproduktion)\, Švica\, 2014\, 5:35\nNAGRADA OBČINSTVA :D’SAF! in POSEBNA OMEMBA ŽIRIJE\nPolena so v mrzli\, ledeni puščavi tik pred tem\, da zmrznejo. Ko ugotovijo\, da so edino gorivo za ogenj oni sami\, postane vroče. \n4. The Shirley Temple\nDaniela Sherer (RCA London)\, Velika Britanija\, 2013\, 9:40\nNAGRADA UNIVERZE V LJUBLJANI IN UNIVERZE V NOVI GORICI ZA NAJBOLJŠI EVROPSKI ŠTUDENTSKI ANIMIRANI FILM\nMeje med otroštvom in odraslostjo se za otroka na mamini zabavi zabrišejo. Eksperimentalno-narativni kratki film z izmenjavanjem likov\, simbolov in abstrakcij raziskuje odnos med otroki in odraslimi\, eskapizmom in seksualnostjo. \n5. Kopališče\nTomek Ducki (Studio Miniatur Filmovych\, Peek&Boo)\, Poljska\, Velika Britanija\, 2013\, 4:00\nV kopališču se pri redni uri plavanja srečata stari kopalki. Tokrat se potopita globlje kot običajno. Kopališče je kratki film o dinamiki življenja na temelju dualistične filozofije\, ki nenehno prehaja med dvema poloma: domišljijo in resničnostjo\, življenjem in smrtjo\, telesom in zavestjo\, preteklostjo in prihodnostjo. \n6. Modra soba\nTomasz Siwinski (Sacrebleu production\, Studio SE-MA-FOR)\, Poljska\, Francija\, 2014\, 14:26\nPOSEBNA OMEMBA ŽIRIJE\nMož se zbudi v modri sobi. V njej je ujet. Iz nje ne more pobegniti. Njegova edina vez z zunanjim svetom je okno. To na skrivnosten način filtrira resničnost. \n7. Prožen kot le kaj\nKarolina Specht (PWSFTVIT Lodz)\, Poljska\, 2013\, 5:00\nZgodba o človeku brez oblike. Glede na prehodno naravo svojega telesa se mora sprijazniti\, da ga ljudje\, stvari in kraji nenehno preoblikujejo. Lahko človek živi povsem neodvisno od drugih\, od resničnosti? Kdo ali kaj odloča\, kdo zares smo? \n8. Beauty\nRino Stefano Tagliaferro\, Italija\, 2014\, 9:47\nPOSEBNA OMEMBA ŽIRIJE\nKratka zgodba o najpomembnejših občutjih v življenju\, od rojstva do smrti\, o ljubezni in spolnosti\, pa bolečini in strahu. Poklon umetnosti in njeni razorožujoči lepoti. \n9. Na veliko\nDaisy Jacobs (NFTS Beaconsfield)\, Velika Britanija\, 2014\, 7:00\nFilm z dvometrskimi liki in scenografijo v naravni velikosti pripoveduje trdo in temačno duhovito zgodbo o negi ostarelih staršev. Izviren animirani kratki film. \n10. Lakota\nPetra Zlonoga (Bonobostudio)\, Hrvaška\, 2014\, 6:09\nVse\, kar živi\, je lačno; seme je lačno svetlobe\, ptica je lačna leta\, človek je lačen dotika drugega. Seme hrepenenja zraste v to\, kar nas hrani.
URL:https://cmakcerkno.net/event/animateka-po-animateki-2015/
LOCATION:C.M.A.K. Cerkno\, Bevkova ulica 22\, Cerkno\, 5282\, Slovenija
CATEGORIES:Film
ATTACH;FMTTYPE=image/jpeg:https://cmakcerkno.net/wp-content/uploads/2015/03/ApoA2015-FB_banner_glava.jpg
END:VEVENT
END:VCALENDAR