BEGIN:VCALENDAR
VERSION:2.0
PRODID:-//C.M.A.K. Cerkno - ECPv5.10.0//NONSGML v1.0//EN
CALSCALE:GREGORIAN
METHOD:PUBLISH
X-WR-CALNAME:C.M.A.K. Cerkno
X-ORIGINAL-URL:https://cmakcerkno.net
X-WR-CALDESC:Events for C.M.A.K. Cerkno
BEGIN:VTIMEZONE
TZID:Europe/Ljubljana
BEGIN:DAYLIGHT
TZOFFSETFROM:+0100
TZOFFSETTO:+0200
TZNAME:CEST
DTSTART:20210328T010000
END:DAYLIGHT
BEGIN:STANDARD
TZOFFSETFROM:+0200
TZOFFSETTO:+0100
TZNAME:CET
DTSTART:20211031T010000
END:STANDARD
END:VTIMEZONE
BEGIN:VEVENT
DTSTART;TZID=Europe/Ljubljana:20210529T200000
DTEND;TZID=Europe/Ljubljana:20210529T220000
DTSTAMP:20260419T220526
CREATED:20210523T075745Z
LAST-MODIFIED:20210613T060059Z
UID:4338-1622318400-1622325600@cmakcerkno.net
SUMMARY:A Humanoid Individual - CMAKoncert livestream
DESCRIPTION:Prenos si lahko ponovno ogledate na povezavi: https://www.youtube.com/watch?v=WlcFFhaVIMk \nNo words\, only Techno. \nA Humanoid Individual – Humanoidni posameznik\, po imenu Luka Grgić\, je DJ/producent iz Ljubljane. Že od majhnega je imel veliko strast do glasbe\, ta strast pa se je začela tudi manifestirati\, ko je obiskal svoj prvi žur z DJ-em. Izkušnja ga je prevzela\, in od takrat kot bi bil poročen s faderji in gumbi na mešalni plošči. Produciranja in mixanja glasbe se je začel učiti leta 2011\, javnosti pa se je prvič predstavil leta 2016. Njegov glavni stil je Techno\, producira pa tudi Tech-House\, minimal in drone glasbo. Pred tremi leti je preklopil na produkcijo glasbe zgolj preko analognih naprav. V začetku leta 2018 je ustvaril tudi svojo založbo Concrete Reality Records\, prek katere izdaja svoj nov glasbeni material. \n+-+-+-+-+-+-+-+-+-+-+-+-+-+-+-+-+-+-+-+-+-+-+-+ \nSoundCloud ( https://soundcloud.com/humanoidindividual ) MixCloud ( https://www.mixcloud.com/HumanoidIndividual/ ) Beatport ( https://www.beatport.com/artist/a-humanoid-individual/599565 )
URL:https://cmakcerkno.net/event/a-humanoid-individual-cmakoncert-livestream/
LOCATION:Svetovni splet
CATEGORIES:CMAKoncert,glasbeno ustvarjanje
END:VEVENT
END:VCALENDAR