BEGIN:VCALENDAR
VERSION:2.0
PRODID:-//C.M.A.K. Cerkno - ECPv5.10.0//NONSGML v1.0//EN
CALSCALE:GREGORIAN
METHOD:PUBLISH
X-WR-CALNAME:C.M.A.K. Cerkno
X-ORIGINAL-URL:https://cmakcerkno.net
X-WR-CALDESC:Events for C.M.A.K. Cerkno
BEGIN:VTIMEZONE
TZID:Europe/Ljubljana
BEGIN:DAYLIGHT
TZOFFSETFROM:+0100
TZOFFSETTO:+0200
TZNAME:CEST
DTSTART:20220327T010000
END:DAYLIGHT
BEGIN:STANDARD
TZOFFSETFROM:+0200
TZOFFSETTO:+0100
TZNAME:CET
DTSTART:20221030T010000
END:STANDARD
END:VTIMEZONE
BEGIN:VEVENT
DTSTART;TZID=Europe/Ljubljana:20220304T180000
DTEND;TZID=Europe/Ljubljana:20220311T220000
DTSTAMP:20260420T064330
CREATED:20220205T164333Z
LAST-MODIFIED:20220224T182551Z
UID:4678-1646416800-1647036000@cmakcerkno.net
SUMMARY:9. festival Deuje babe
DESCRIPTION:Cerkljanski mladinski alternativni klub od leta 2013 ob mednarodnem dnevu žensk organizira festival Deuje babe. Imenuje se po arheološkem najdišču nad dolino reke Idrijce\, kjer so po ljudskem izročilu prebivale neukročene ženske.Festival je zvest izročilu\, saj predstavlja »divje« umetniško izražanje in aktivistično delovanje deklet ter žensk vseh spolov. Daje jim možnost\, da svoje delo predstavijo širši publiki\, prednost pa daje tistim ustvarjalkam in borkam\, ki zavračajo stereotipne predstave o ženskah ter kršijo nenapisana pravila o »normalnem« videzu\, obnašanju\, spolni usmerjenosti\, načinu življenja\, poklicni izbiri ipd. Festival Deuje babe zagovarja enakost vseh žensk – tudi tistih\, ki se niso rodile kot ženske – in pravičnejši svet za vse. \nVabljene\, vabljeni! \n \nProgram\nPetek\, 4. marec\, ob 18:00\nGalerija Stopnišče\, Večnamenski center Cerkno\nOdprtje razstave\nRaz-stava\nPika Terpin\nRazstava bo odprta do 26. marca. \nPetek\, 4. marec\, ob 19:30\nVečnamenski center Cerkno\nCelovečerni igrani film\nTelesce\nLaura Samani\nOgledu sledi pogovor o filmu. \nČetrtek\, 10. marec\, ob 19:00\nFilmsko gledališče Idrija\nKratki filmi prodornih režiserk\nSestre (Kukla)\nSteakhouse (Špela Čadež)\nBabičino seksualno življenje (Urška Djukić in Émilie Pigeard) \nPetek\, 11. marec\, ob 19:00\nBevkova knjižnica Cerkno\nLiterarni večer\nSrca v igri\nTom Veber\, Špela Setničar\, Veronika Razpotnik\, Vesna Liponik \nPetek\, 11. marec\, ob 20:30\nDruštvo upokojencev Cerkno\nKoncert\nArlo Zaria \nVsi dogodki so brezplačni. Prostovoljni prispevki so dobrodošli.\nUdeležba je mogoča ob upoštevanju aktualnih ukrepov za zajezitev epidemije.\n\nPrizorišča\nGalerija Stopnišče\, Večnamenski center Cerkno\, Bevkova ulica 22\nFilmsko gledališče Idrija\, Trg sv. Ahacija 5\nBevkova knjižnica Cerkno\, Platiševa ulica 5\nDruštvo upokojencev Cerkno\, Močnikova ulica 8 \nPovezave\nDeuje babe na Facebooku\nCmakova spletna stran\nCmak na Facebooku\nCmak na Instagramu
URL:https://cmakcerkno.net/event/9-festival-deuje-babe/
LOCATION:C.M.A.K. Cerkno\, Bevkova ulica 22\, Cerkno\, 5282\, Slovenija
CATEGORIES:Deuje babe,Festival
END:VEVENT
END:VCALENDAR