BEGIN:VCALENDAR
VERSION:2.0
PRODID:-//C.M.A.K. Cerkno - ECPv5.10.0//NONSGML v1.0//EN
CALSCALE:GREGORIAN
METHOD:PUBLISH
X-WR-CALNAME:C.M.A.K. Cerkno
X-ORIGINAL-URL:https://cmakcerkno.net
X-WR-CALDESC:Events for C.M.A.K. Cerkno
BEGIN:VTIMEZONE
TZID:Europe/Ljubljana
BEGIN:DAYLIGHT
TZOFFSETFROM:+0100
TZOFFSETTO:+0200
TZNAME:CEST
DTSTART:20190331T010000
END:DAYLIGHT
BEGIN:STANDARD
TZOFFSETFROM:+0200
TZOFFSETTO:+0100
TZNAME:CET
DTSTART:20191027T010000
END:STANDARD
END:VTIMEZONE
BEGIN:VEVENT
DTSTART;TZID=Europe/Ljubljana:20190309T190000
DTEND;TZID=Europe/Ljubljana:20190323T210000
DTSTAMP:20260421T123336
CREATED:20190218T095940Z
LAST-MODIFIED:20190218T095940Z
UID:3366-1552158000-1553374800@cmakcerkno.net
SUMMARY:7. Deuje babe / Štrene\, razstava Iniciative ČIPke
DESCRIPTION:7. festival Deuje babe\nvabi na odprtje razstave\nŠTRENE \nČIPke bodo na razstavi Štrene v Galeriji Križišče predstavile samostojna in skupinska dela udeleženk delavnic\, ki so temeljile na uporabi proste programske opreme\, na tehnikah uporabe e-tekstilij\, biomaterialov\, nosljive tehnologije ter na zvočnem ekperimentiranju. \nČ I P k e so Iniciativa za ženske s čutom za tehnologijo\, znanost in umetnost\, ki raziskuje situacijo žensk v znanstveno-tehničnem kontekstu in intermedijski umetnosti\, odpira prostor komuniciranja o pogojih delovanja žensk na tem področju\, podpira medsebojno sodelovanje\, izmenjavo idej ter učenje od čipke do čipke. \nVeč: https://cipke.wordpress.com/ \nRazstavljajo: Urška Savič\, Sophie Barchert\, Lavoslava Benčić in izr. prof. Peter Purg [sodelujoče iz AU UNG: Balša Leković\, Natalia Moiseeva\, Anja Paternoster\, Denis Perčič\, Matija Ternovec\, Rok Urbanček\, Pietro Cromaz\, Davor Dujmović\, Josipa Škrapić\, Larisa Nagode]\, Ivana Osećanski Despić\, Staša Guček\, Anja Podreka\, Linda Ogrizek\, Sanja Hrvaćanin\, Eva Pondrk\, Barbara Turk Niskač\, Lea Culetto. \nRazstava je odprta do 23. marca 2019.\nVstop prost\, prostovoljni prispevki dobrodošli. \nOdprtju razstave bo sledil zvočno-vizualni performans eksperimentalne noise skupine Kikimore\, ki se je formirala v okviru iniciative ČIPke leta 2016 (CMAKoncert: Kikimore [SLO] / Deuje babe). \nVeč o festivalu: https://deujebabe.wordpress.com/
URL:https://cmakcerkno.net/event/7-deuje-babe-strene-razstava-iniciative-cipke/
LOCATION:C.M.A.K. Cerkno\, Bevkova ulica 22\, Cerkno\, 5282\, Slovenija
CATEGORIES:Deuje babe,Razstava
ATTACH;FMTTYPE=image/jpeg:https://cmakcerkno.net/wp-content/uploads/2019/02/Strene.jpg
END:VEVENT
END:VCALENDAR