BEGIN:VCALENDAR
VERSION:2.0
PRODID:-//C.M.A.K. Cerkno - ECPv5.10.0//NONSGML v1.0//EN
CALSCALE:GREGORIAN
METHOD:PUBLISH
X-WR-CALNAME:C.M.A.K. Cerkno
X-ORIGINAL-URL:https://cmakcerkno.net
X-WR-CALDESC:Events for C.M.A.K. Cerkno
BEGIN:VTIMEZONE
TZID:Europe/Ljubljana
BEGIN:DAYLIGHT
TZOFFSETFROM:+0100
TZOFFSETTO:+0200
TZNAME:CEST
DTSTART:20190331T010000
END:DAYLIGHT
BEGIN:STANDARD
TZOFFSETFROM:+0200
TZOFFSETTO:+0100
TZNAME:CET
DTSTART:20191027T010000
END:STANDARD
END:VTIMEZONE
BEGIN:VEVENT
DTSTART;TZID=Europe/Ljubljana:20190309T150000
DTEND;TZID=Europe/Ljubljana:20190309T150000
DTSTAMP:20260421T015934
CREATED:20190205T125008Z
LAST-MODIFIED:20190205T161754Z
UID:3301-1552143600-1552143600@cmakcerkno.net
SUMMARY:7. Deuje babe / Staša Guček (ČIPke\, Kikimore): Delavnica MOTHeremin
DESCRIPTION:7. festival Deuje babe vabi na delavnico: \nStaša Guček (ČIPke\, Kikimore): MOTHeremin \nGostovanje ljubljanske Iniciative za ženske s čutom za tehnologijo\, znanost in umetnost ČIPke v Cerknem otvarja delavnica\, na kateri vas bo Staša Guček (skrbnica Iniciative ČIPke in članica zasedbe Kikimore) popeljala skozi osnove spajkanja in vam pokazala\, kako sestaviti svoj teremin iz nekaj osnovnih elektronskih komponent. \nAnalogno zvočilo MOTHeremin temelji na elektronskem vezju glasbila teremin\, ki ga je leta 1919 izumil ruski fizik Leon Theremin. Posebnost teremina je\, da se nanj igra brez dotika s spreminjanjem razdalje od dveh elektrod oz. anten. \nNa triurni delavnici bomo izdelali preprostejšo različico teremina\, ki ga je\, obkrožena z nočnimi metulji med lanskim smaragdnim laboratorijem PIFcamp v dolini reke Soče\, razvila in oblikovala Staša Guček. \nPotenciometra uravnavata glasnost in frekvenco. S premikanjem roke ob anteni se uporabnik vključi v vezje kot negativni pol kondenzatorja in s tem spreminja kapacitivnost oz. frekvenco. \nElektronsko vezje je oblikovano in zjedkano v obliki nočnega metulja oziroma vešče (anteni teremina predstavljata žuželkini tipalki)\, zato se ta verzija glasbila v angleščini imenuje MOTHeremin. \nPo delavnici se bodo udeleženke/ci lahko priklopili na mešalno mizo in skupaj zanojzali. \nKer je število sodelujočih omejeno\, je vnaprejšnja prijava obvezna.\nPrijave in vprašanja o delavnici sprejemamo do 1. marca na cmak2@siol.net. Priporočeni prispevek (za kritje stroškov vsega potrebnega materiala) znaša 10 EUR na osebo. \nZa udeležbo na delavnici ni potrebno predznanje. \nGostovanje ČIPK na 7. festivalu Deuje babe poleg delavnice vključuje še odprtje razstave Štrene in zvočni performans skupine Kikimore. \nIniciativa ČIPke: https://www.facebook.com/groups/CIPke/\nKikimore: https://www.facebook.com/kikimorenoise/
URL:https://cmakcerkno.net/event/7-deuje-babe-stasa-gucek-cipke-kikimore-delavnica-motheremin/
LOCATION:C.M.A.K. Cerkno\, Bevkova ulica 22\, Cerkno\, 5282\, Slovenija
CATEGORIES:Delavnica
ATTACH;FMTTYPE=image/jpeg:https://cmakcerkno.net/wp-content/uploads/2019/02/čipke_kikimore.jpg
END:VEVENT
END:VCALENDAR