BEGIN:VCALENDAR
VERSION:2.0
PRODID:-//C.M.A.K. Cerkno - ECPv5.10.0//NONSGML v1.0//EN
CALSCALE:GREGORIAN
METHOD:PUBLISH
X-WR-CALNAME:C.M.A.K. Cerkno
X-ORIGINAL-URL:https://cmakcerkno.net
X-WR-CALDESC:Events for C.M.A.K. Cerkno
BEGIN:VTIMEZONE
TZID:Europe/Ljubljana
BEGIN:DAYLIGHT
TZOFFSETFROM:+0100
TZOFFSETTO:+0200
TZNAME:CEST
DTSTART:20190331T010000
END:DAYLIGHT
BEGIN:STANDARD
TZOFFSETFROM:+0200
TZOFFSETTO:+0100
TZNAME:CET
DTSTART:20191027T010000
END:STANDARD
END:VTIMEZONE
BEGIN:VEVENT
DTSTART;TZID=Europe/Ljubljana:20190315T200000
DTEND;TZID=Europe/Ljubljana:20190315T220000
DTSTAMP:20260420T164122
CREATED:20190220T103820Z
LAST-MODIFIED:20190220T103820Z
UID:3374-1552680000-1552687200@cmakcerkno.net
SUMMARY:7. Deuje babe / Predstava Nataše Živković: Sine
DESCRIPTION:7. festival Deuje babe v sodelovanju z Društvom za promocijo žensk v kulturi – Mesto žensk vabi na predstavo: \nNataša Živković: Sine (2018\, 35 min\, Mesto žensk) \nŽenska je vreča\, narejena da vzdrži. \n– Kanun\, srednjeveški zakonik Lekëja Dukagjinija\, področje severne Albanije in Kosova. \n#Nezaželena. To je ime mnogih deklic v naši Črni gori.\n– napis na plakatu Centra za ženske pravice v kampanji proti praksi selektivnega splava\, Črna gora\, 2017 \nUmrla je poslednja črnogorska virdžina. Njena zadnja želja je bila\, da je na družinskem grobu zapisana kot edini preživeli sin njenega očeta. \n– Blic\, 2. 8. 2016 \nSine! – mi ljubkovalno reče bližnja sorodnica\, ko grem na obisk v Črno goro. \nPredstava SINE je poskus antropološke raziskave specifičnega pojava v performativni obliki. Je osupla fascinacija nad podobami in zgodbami zapriseženih devic (virdžin) z oddaljenih predelov Črne gore\, Albanije\, Kosova in Metohije. Je luknja v sistemu\, ki taisti sistem vzdržuje\, ob čemer se sprašuje\, v kakšnem svetu živimo mi. Je predstava o tradicionalni moškosti in družbenem redu\, ki je bil do včeraj – ali pa je še danes – samoumeven. \nNataša Živković v predstavi SINE preverja staro feministično spoznanje\, da mora v patriarhalni družbi ženska najprej postati moški\, da bi bila sploh pripoznana kot človek. Obenem moški del občinstva nagovarja z vprašanjem\, ali se istoveti s tradicionalno moškostjo ali ne. So vloge med spoloma in vloge v gledališču res že vnaprej tako jasno določene\, da ko jih ponotranjiš\, v njih sodeluješ brez pomisleka? \nPredstavi sledi pogovor z avtorico predstave. Moderira ga Tea Hvala. \nAvtorica in izvajalka: Nataša Živković\nIzvajalki_ca: Loup Abramovici\, Daniel Petković\nOblikovanje prostora\, scenografije: Lenka Đorojević\nOblikovanje luči in tehnično vodstvo: Špela Škulj\nOblikovanje luči in zvoka v Cerknem: Edi Božič\nPomoč pri oblikovanju luči in zvoka v Cerknem: Sebastjan Razpet\nFotografija: Nada Žgank\nSvetovanje: Teja Reba\nProdukcija: Mesto žensk\nKoprodukcija: Bunker – Stara mestna elektrarna\nZahvala: Zavod Maska in Slovensko mladinsko gledališče \nVeč o predstavi:\nhttp://www.cityofwomen.org/sl/content/2018/projekt/sine\nhttp://www.cityofwomen.org/sl/content/2018/video/sine\nhttps://www.dnevnik.si/1042842256 (Intervju z Natašo Živković) \nVstop prost. Prostovoljni prispevki za nastopajoče dobrodošli. \nPredstava in pogovor sta namenjena starejšim od 16 let. Mlajšim priporočamo ogled v spremstvu odraslih. \nGostovanje predstave organiziramo v koprodukciji z Društvom za promocijo žensk v kulturi – Mesto žensk. \nOŠ Cerkno se zahvaljujemo za brezplačno nudenje prireditvenega prostora. KUD Cerkno se zahvaljujemo za brezplačno izposojo opreme. \nPredstava je nastala v okviru projekta Uprizarjati spol – ples razlik. Projekt je finančno podprla Kreativna Evropa\, Ministrstvo za kulturo in Mestna občina Ljubljana.
URL:https://cmakcerkno.net/event/7-deuje-babe-predstava-natase-zivkovic-sine/
LOCATION:OŠ Cerkno\, Bevkova ulica 26\, Cerkno\, 5282\, Slovenia
CATEGORIES:Deuje babe,Gledališče
ATTACH;FMTTYPE=image/jpeg:https://cmakcerkno.net/wp-content/uploads/2019/02/medijska_sine-foto-nada-zgank.jpg
END:VEVENT
END:VCALENDAR