BEGIN:VCALENDAR
VERSION:2.0
PRODID:-//C.M.A.K. Cerkno - ECPv5.10.0//NONSGML v1.0//EN
CALSCALE:GREGORIAN
METHOD:PUBLISH
X-WR-CALNAME:C.M.A.K. Cerkno
X-ORIGINAL-URL:https://cmakcerkno.net
X-WR-CALDESC:Events for C.M.A.K. Cerkno
BEGIN:VTIMEZONE
TZID:Europe/Ljubljana
BEGIN:DAYLIGHT
TZOFFSETFROM:+0100
TZOFFSETTO:+0200
TZNAME:CEST
DTSTART:20190331T010000
END:DAYLIGHT
BEGIN:STANDARD
TZOFFSETFROM:+0200
TZOFFSETTO:+0100
TZNAME:CET
DTSTART:20191027T010000
END:STANDARD
END:VTIMEZONE
BEGIN:VEVENT
DTSTART;TZID=Europe/Ljubljana:20190307T100000
DTEND;TZID=Europe/Ljubljana:20190307T103000
DTSTAMP:20260421T124026
CREATED:20190220T102905Z
LAST-MODIFIED:20190220T103343Z
UID:3371-1551952800-1551954600@cmakcerkno.net
SUMMARY:7. Deuje babe / Gledališče za dojenčke in malčke AEIOU: Ti in jaz
DESCRIPTION:Interaktivna polurna predstava za najmlajše otroke iz nasprotij in podobnosti ustvarja humoren svet absurdnih situacij. Iz verige duhovitih transformacij\, ki se zgodijo s pomočjo pralnega stroja\, nastane nov\, igriv in humoren svet sester dvojčic. Pralni stroj nepredvidljivo spreminja stvari: obleke postanejo bitja\, vsakdanji predmeti dobivajo nove pomene; sestri dvojčici pa vselej iz njih ustvarita razburljive\, smešne in prijetne dogodke. \nPredstava Ti in jaz je na 7. bienalu lutkovnih ustvarjalcev 2013 v Mariboru prejela nagrado za posebne dosežke za odrsko sporazumevanje z najmlajšim gledališkim občinstvom. Umeščena je tudi v bazo kakovostnih slovenskih predstav za otroke ZLATA PALIČICA. \nPredstava je namenjena otrokom iz Vrtca Peter Klepec\, Cerkno. \n\n\n\nVeč o predstavi: https://www.aeiou.si/predstave-slovenija/ti-in-jaz.htm \nAEIOU je neodvisna umetniška skupina. Leta 2010 so jo ustanovile lutkovna režiserka Katja Kähkönen\, kiparka\, restavratorka in likovna pedagoginja Mateja Ocepek ter lutkarica Katja Povše v sodelovanju z drugimi ustvarjalci ter psihologinjo. Od leta 2013 ima gledališče svojo sestrsko skupino tudi na Finskem (Vauva- ja taaperoteatteri AEIOU). Skupina AEIOU ustvarja predstave vizualnega in fizičnega gledališča ter gledališča predmetov\, v katerih se gledališke zvrsti prepletajo z ostalimi umetniškimi zvrstmi. Skupina skrbi za usklajenost vsebine\, zvočne in likovne podobe\, hkrati pa tudi za prilagojenost psihološki in fizični stopnji razvoja najmlajših. Medsebojna povezanost različnih umetniških zvrsti pripomore k (prvemu) celovitemu stiku malčkov s svetom umetnosti in gledališča.
URL:https://cmakcerkno.net/event/7-deuje-babe-gledalisce-za-dojencke-in-malcke-aeiou-ti-in-jaz/
LOCATION:OŠ Cerkno\, Bevkova ulica 26\, Cerkno\, 5282\, Slovenia
CATEGORIES:Deuje babe,Gledališče
ATTACH;FMTTYPE=image/jpeg:https://cmakcerkno.net/wp-content/uploads/2019/02/ti-in-jaz-aeiou-1.jpg
END:VEVENT
END:VCALENDAR