BEGIN:VCALENDAR
VERSION:2.0
PRODID:-//C.M.A.K. Cerkno - ECPv5.10.0//NONSGML v1.0//EN
CALSCALE:GREGORIAN
METHOD:PUBLISH
X-WR-CALNAME:C.M.A.K. Cerkno
X-ORIGINAL-URL:https://cmakcerkno.net
X-WR-CALDESC:Events for C.M.A.K. Cerkno
BEGIN:VTIMEZONE
TZID:Europe/Ljubljana
BEGIN:DAYLIGHT
TZOFFSETFROM:+0100
TZOFFSETTO:+0200
TZNAME:CEST
DTSTART:20250330T010000
END:DAYLIGHT
BEGIN:STANDARD
TZOFFSETFROM:+0200
TZOFFSETTO:+0100
TZNAME:CET
DTSTART:20251026T010000
END:STANDARD
END:VTIMEZONE
BEGIN:VEVENT
DTSTART;TZID=Europe/Ljubljana:20251018T180000
DTEND;TZID=Europe/Ljubljana:20251114T200000
DTSTAMP:20260421T044353
CREATED:20251007T111010Z
LAST-MODIFIED:20251016T111315Z
UID:5812-1760810400-1763150400@cmakcerkno.net
SUMMARY:Razstava: Robert Cipurić - Parkiral. Na papir. /Mladi v Stopnišču 2025
DESCRIPTION:Tokratnja razstava iz cikla Mladi v Stopnišču 2025\, sledi potezam kemičnika v roki ustvarjalca Roberta Cipurića\, ki ga najdete tudi na Instagramu in TikToku s klikom na profil @Kuli_lines . \n\n\n\nRazstava bo otvorjena to soboto\, 18.10. ob 18.00\, kjer bo prisoten tudi umetnik. Ogledali si jo boste lahko do 14.11. \n  \n\n\n\nRobert Cipurić prihaja iz Bele krajine\, natančneje iz Metlike. Že od nekdaj ga navdušuje svet avtomobilov\, motorjev in tovornjakov. Ljubezen do teh vozil pa se že dolgo prepleta z njegovo drugo strastjo – risanjem. Že v srednji šoli so bile platnice njegovih zvezkov polne skic\, danes pa se je to ustvarjanje razvilo v vsakodnevni hobi\, ki ga z veseljem neguje. \n\n\n\nRaziskovanje tehnik risanja in slikanja ga pelje od preprostih skic iz domišljije\, do risanja v skicirko – pogosto kar v lastnem avtomobilu na parkirišču – vse do slikanja na večje formate. Ustvarjanje mu omogoča\, da svet vozil doživlja in upodablja na svoj\, unikaten način. \n\n\n\nNjegov cilj ni le prikazati vozila\, temveč jih predstaviti skoraj kot bitja z značajem\, energijo\, in včasih tudi s kakšno prasko\, ki pripoveduje svojo zgodbo. \n\n\n\nZ leti je razvijal svoj slog\, raziskoval različne materiale ter se učil skozi opazovanje\, poskušanje in napake. Najbolj pri srcu mu je preprost črn kemični svinčnik\, pogosto v kombinaciji s sivimi markerji. Z veseljem ustvarja tudi z akvareli in črnilom. Tako kot ga privlači raziskovanje različnih tehnik\, ga vse bolj navdihujejo tudi naravni motivi in oblike človeškega telesa\, ki jih zadnje čase vedno pogosteje vključuje v svoja dela. \n\n\n\nCikel mladi v Stopnišču podpirata Občina Cerkno in JSKD.
URL:https://cmakcerkno.net/event/5812/
LOCATION:Galerija Stopnišče\, Bevkova 22\, Cerkno\, 5282\, Slovenija
CATEGORIES:Razstava
END:VEVENT
END:VCALENDAR