BEGIN:VCALENDAR
VERSION:2.0
PRODID:-//C.M.A.K. Cerkno - ECPv5.10.0//NONSGML v1.0//EN
CALSCALE:GREGORIAN
METHOD:PUBLISH
X-WR-CALNAME:C.M.A.K. Cerkno
X-ORIGINAL-URL:https://cmakcerkno.net
X-WR-CALDESC:Events for C.M.A.K. Cerkno
BEGIN:VTIMEZONE
TZID:Europe/Ljubljana
BEGIN:DAYLIGHT
TZOFFSETFROM:+0100
TZOFFSETTO:+0200
TZNAME:CEST
DTSTART:20240331T010000
END:DAYLIGHT
BEGIN:STANDARD
TZOFFSETFROM:+0200
TZOFFSETTO:+0100
TZNAME:CET
DTSTART:20241027T010000
END:STANDARD
END:VTIMEZONE
BEGIN:VEVENT
DTSTART;TZID=Europe/Ljubljana:20240921T200000
DTEND;TZID=Europe/Ljubljana:20240921T200000
DTSTAMP:20260420T174315
CREATED:20240916T064944Z
LAST-MODIFIED:20240916T065145Z
UID:5557-1726948800-1726948800@cmakcerkno.net
SUMMARY:Klubski maraton Radia Študent 2024: Defy\, Nikola Kokotović
DESCRIPTION:Klubski maraton Radia Študent bo tudi letošnjo jesen grmel po raznih klubih in prizoriščih v slovenskem prostoru. V Cerknem se karavana ustavi 21. septembra\, predstavili pa se nam bodo metalci DEFY in kantavtor NIKOLA KOKOTOVIĆ. \n\n\n\n\n\n\n\nDEFY – Temačni kvartet upora Sebastjan Šibenik Jernej Leskovec Rok Vrtovec Andraž Lovšin \n\n\n\nDefy je klasična ljubljanska kitarska formacija\, ki s pripovedmi o skvarjenem sistemu in večnih vojnah reže ušesa. IG: https://www.instagram.com/official_defy/ FB: https://www.facebook.com/defybandofficial/ YT: https://www.youtube.com/@DefyOfficialBand  \n\n\n\n\n\n\n\n\n\nNIKOLA KOKOTOVIĆ – Nabriti jugo enosed Nikola Kokotović (vokal\, kitara\, bas kitara\, bobni) je v beograjskem podtalju kaljeni mladenič in ljubljanski študent\, ki se z vihravo kitarsko linijo prebija skozi debele zidove blokovske garaže.IG: https://www.instagram.com/kokotovic.n/
URL:https://cmakcerkno.net/event/5557/
LOCATION:Dvorišče pred VCC\, Bevkova ulica 22\, Cerkno\, 5282\, Slovenija
CATEGORIES:Gostujemo,Koncert
END:VEVENT
END:VCALENDAR