BEGIN:VCALENDAR
VERSION:2.0
PRODID:-//C.M.A.K. Cerkno - ECPv5.10.0//NONSGML v1.0//EN
CALSCALE:GREGORIAN
METHOD:PUBLISH
X-WR-CALNAME:C.M.A.K. Cerkno
X-ORIGINAL-URL:https://cmakcerkno.net
X-WR-CALDESC:Events for C.M.A.K. Cerkno
BEGIN:VTIMEZONE
TZID:Europe/Ljubljana
BEGIN:DAYLIGHT
TZOFFSETFROM:+0100
TZOFFSETTO:+0200
TZNAME:CEST
DTSTART:20160327T010000
END:DAYLIGHT
BEGIN:STANDARD
TZOFFSETFROM:+0200
TZOFFSETTO:+0100
TZNAME:CET
DTSTART:20161030T010000
END:STANDARD
END:VTIMEZONE
BEGIN:VEVENT
DTSTART;TZID=Europe/Ljubljana:20160304T190000
DTEND;TZID=Europe/Ljubljana:20160318T210000
DTSTAMP:20260421T192325
CREATED:20160103T171353Z
LAST-MODIFIED:20160222T184000Z
UID:1727-1457118000-1458334800@cmakcerkno.net
SUMMARY:4. festival Deuje babe | Razstava Petre Gorenc: Bolščanje
DESCRIPTION:4. FESTIVAL DEUJE BABEOdprtje razstavePETRA GORENC (Ljubljana): Bolščanje“Platno ni okno v globine mojega jaza\, ampak samo raztrganina\, trenutek\, ki sramežljivo bolšči nazaj.”Tako je slikarka Petra Gorenc opisala slike in risbe\, ki jih bo prvič predstavila javnosti na četrtem festivalu Deuje babe. Zase pravi\, da nima biografije\, vsaj ne takšne\, kot se spodobi za slikarko. Toda ni odveč povedati\, da je na Akademiji za likovno umetnost in oblikovanje študirala slikarstvo in da v metelkovskem klubu Jalla Jalla že tretje leto zapored organizira razstave in vodi delavnice risanja figure. Festival Deuje babe je namenjen predstavljanju izrazno močnih umetnic\, ki v javnost vstopajo zadržano\, brez »pravih referenc«\, zato četrto edicija festivala z velikim veseljem začenjamo prav z “Bolščanjem” Petre Gorenc. \nRazstava bo odprta do 18. marca. \nOdpiralni čas galerije:\npon.\, tor.\, čet. in pet.: 14h-21h\nsreda: 8h-16h\, sobota: 18h-21h \nOrganizacija: Deuje babe ( MC C.M.A.K. Cerkno )
URL:https://cmakcerkno.net/event/4-festival-deuje-babe/
LOCATION:C.M.A.K. Cerkno\, Bevkova ulica 22\, Cerkno\, 5282\, Slovenija
CATEGORIES:Razstava
ATTACH;FMTTYPE=image/jpeg:https://cmakcerkno.net/wp-content/uploads/2016/01/razstava.jpg
END:VEVENT
END:VCALENDAR