BEGIN:VCALENDAR
VERSION:2.0
PRODID:-//C.M.A.K. Cerkno - ECPv5.10.0//NONSGML v1.0//EN
CALSCALE:GREGORIAN
METHOD:PUBLISH
X-WR-CALNAME:C.M.A.K. Cerkno
X-ORIGINAL-URL:https://cmakcerkno.net
X-WR-CALDESC:Events for C.M.A.K. Cerkno
BEGIN:VTIMEZONE
TZID:Europe/Ljubljana
BEGIN:DAYLIGHT
TZOFFSETFROM:+0100
TZOFFSETTO:+0200
TZNAME:CEST
DTSTART:20160327T010000
END:DAYLIGHT
BEGIN:STANDARD
TZOFFSETFROM:+0200
TZOFFSETTO:+0100
TZNAME:CET
DTSTART:20161030T010000
END:STANDARD
END:VTIMEZONE
BEGIN:VEVENT
DTSTART;TZID=Europe/Ljubljana:20160311T180000
DTEND;TZID=Europe/Ljubljana:20160311T190000
DTSTAMP:20260420T171019
CREATED:20160222T185539Z
LAST-MODIFIED:20160222T185539Z
UID:1803-1457719200-1457722800@cmakcerkno.net
SUMMARY:4. festival Deuje babe | Pripovedovalski večer Deujih bab
DESCRIPTION:4. FESTIVAL DEUJE BABEPripovedovalski večer Deujih babDivje čeče bomo v pripovedovalskem večeru iz nabora lokalnih in globalnih zgodb interpretirale tiste o dekletih in ženskah\, ki jih je patriarhalna tradicija označila kot divje\, grde\, hudobne\, pregrešne\, nemoralne\, preglasne\, pretihe ali kako drugače sporne. Zgodbe o njih odpirajo prostor za razmislek o tem\, katere želje\, misli in dejanja žensk so (ne)zaželena ali celo kaznovana še danes.Vstop prost. Organizacija: Deuje babe v sodelovanju z Barom Gabrijel.Naslovna ilustracija Corinna Sargood\, pisava Tea Hvala.
URL:https://cmakcerkno.net/event/4-festival-deuje-babe-pripovedovalski-vecer-deujih-bab/
LOCATION:Bar Gabrijel\, Trg prekomorskih brigad 1\, Cerkno\, 5282\, Slovenija
CATEGORIES:Pripovedniški večer
ATTACH;FMTTYPE=image/jpeg:https://cmakcerkno.net/wp-content/uploads/2016/02/12778825_1691034554505377_6585629079701466140_o.jpg
END:VEVENT
END:VCALENDAR