BEGIN:VCALENDAR
VERSION:2.0
PRODID:-//C.M.A.K. Cerkno - ECPv5.10.0//NONSGML v1.0//EN
CALSCALE:GREGORIAN
METHOD:PUBLISH
X-WR-CALNAME:C.M.A.K. Cerkno
X-ORIGINAL-URL:https://cmakcerkno.net
X-WR-CALDESC:Events for C.M.A.K. Cerkno
BEGIN:VTIMEZONE
TZID:Europe/Ljubljana
BEGIN:DAYLIGHT
TZOFFSETFROM:+0100
TZOFFSETTO:+0200
TZNAME:CEST
DTSTART:20160327T010000
END:DAYLIGHT
BEGIN:STANDARD
TZOFFSETFROM:+0200
TZOFFSETTO:+0100
TZNAME:CET
DTSTART:20161030T010000
END:STANDARD
END:VTIMEZONE
BEGIN:VEVENT
DTSTART;TZID=Europe/Ljubljana:20160305T220000
DTEND;TZID=Europe/Ljubljana:20160305T235500
DTSTAMP:20260422T105334
CREATED:20160222T185115Z
LAST-MODIFIED:20160222T185115Z
UID:1801-1457215200-1457222100@cmakcerkno.net
SUMMARY:4. festival Deuje babe | Koncert: La Chasse
DESCRIPTION:Koncert La Chasse (Francija)Energični duo La Chasse (‘Lov’) iz Marseilla (FR) sestavljata Ana Grollier in Julie Buisson. Nastopata v različnih žanrih (metal\, grunge\, noise\, psyche in synth) in se v svoji glasbi osredotočata na izvirno mešanico kitarskega zvoka in bobnov. Obe članici dua sta delovali oz. še vedno delujeta tudi z drugimi skupinami: Véhémence\, Mona Servo\, Cimetière\, Morse\, Local 41\, La Course à la Mort. Duo La Chasse je letos izdal prvenec La Chasse / Cancer – Split K7\, predelavo Kraftwekove Das Model in singel C’est la Chasse. Februarja je izšel tudi njun EP ‘Chatte CD’. V svojih nastopih uporabljata lastno video produkcijo\, najdene posnetke in se tematsko navezujeta na živalskost\, naravo\, ezoteriko\, rituale\, spolnost in telo. Duo ima za sabo nastope v Franciji (Marseille\, Toulouse\, Aix en Provence …) in Švici. \nPovezava: https://lachasse1.bandcamp.com/ \nVstopnina: 3\,00 € \nOrganizacija: Deuje babe v sodelovanju s festivalom Rdeče zore. \nDuo La Chasse bo nastopil tudi v Ljubljani na 17. feminističnem in kvirovskem festivalu Rdeče zore (http://rdecezore.org/)
URL:https://cmakcerkno.net/event/4-festival-deuje-babe-koncert-la-chasse/
LOCATION:C.M.A.K. Cerkno\, Bevkova ulica 22\, Cerkno\, 5282\, Slovenija
CATEGORIES:Koncert
ATTACH;FMTTYPE=image/jpeg:https://cmakcerkno.net/wp-content/uploads/2016/02/12747907_1691030751172424_4131626770557196242_o.jpg
END:VEVENT
END:VCALENDAR