BEGIN:VCALENDAR
VERSION:2.0
PRODID:-//C.M.A.K. Cerkno - ECPv5.10.0//NONSGML v1.0//EN
CALSCALE:GREGORIAN
METHOD:PUBLISH
X-WR-CALNAME:C.M.A.K. Cerkno
X-ORIGINAL-URL:https://cmakcerkno.net
X-WR-CALDESC:Events for C.M.A.K. Cerkno
BEGIN:VTIMEZONE
TZID:Europe/Ljubljana
BEGIN:DAYLIGHT
TZOFFSETFROM:+0100
TZOFFSETTO:+0200
TZNAME:CEST
DTSTART:20160327T010000
END:DAYLIGHT
BEGIN:STANDARD
TZOFFSETFROM:+0200
TZOFFSETTO:+0100
TZNAME:CET
DTSTART:20161030T010000
END:STANDARD
END:VTIMEZONE
BEGIN:VEVENT
DTSTART;TZID=Europe/Ljubljana:20160311T200000
DTEND;TZID=Europe/Ljubljana:20160311T220000
DTSTAMP:20260420T164425
CREATED:20160222T185745Z
LAST-MODIFIED:20160222T185745Z
UID:1806-1457726400-1457733600@cmakcerkno.net
SUMMARY:4. festival Deuje babe | Koncert: Feministični pevski zbor Z'borke
DESCRIPTION:4. FESTIVAL DEUJE BABEKoncertFeministični pevski zbor Z’borke (Ljubljana)FPZ Z’borke poje proti seksizmu\, spodbuja enakopravnost ter enake možnosti ljudi vseh spolov. “Že nekaj časa čutimo praznino na področju bolj angažiranega zborovskega petja. Na splošno je ogromno ljudskih pesmi\, prirejenih za zbor\, polnih seksizma\, ženske pasivnosti\, neenakovrednosti in stereotipov. Zborovski pevci in pevke s petjem tovrstnih pesmi pritrjujejo stereotipom in reproducirarajo status quo. Poleg tega pa je tudi popularna\, zabavna glasba vse bolj seksistična\, ženske postavlja v pasiven\, neenakovreden položaj\, jih objektificira ter jasno spodbuja nasilje nad ženskami.Zaradi vseh zgoraj navedenih razlogov smo se odločile ustanoviti feministični pevski zbor. Cilj tega zbora bo oziroma je petje pesmi\, v katerih ne bo seksizma\, v ljudskih pesmih ženske opolnomočiti in jih postaviti v enakovreden in aktiven položaj\, v katerem so v marsikaterem primeru tudi bile. Prav tako je naš cilj spreminjanje seksističnih besedil v popularni glasbi.” (FPZ Z’borke) \nPovezavi:\nhttps://www.youtube.com/watch?v=YFRUTq3vFRY\nhttps://www.facebook.com/FPZ.Zborke/ \nVstop prost. \nOrganizacija: Deuje babe v sodelovanju z Barom Gabrijel. \nFoto: Rebeka Bernetič
URL:https://cmakcerkno.net/event/4-festival-deuje-babe-koncert-feministicni-pevski-zbor-zborke/
LOCATION:Bar Gabrijel\, Trg prekomorskih brigad 1\, Cerkno\, 5282\, Slovenija
CATEGORIES:Koncert
ATTACH;FMTTYPE=image/jpeg:https://cmakcerkno.net/wp-content/uploads/2016/02/12743615_1691042974504535_1180648932937413734_n.jpg
END:VEVENT
END:VCALENDAR