BEGIN:VCALENDAR
VERSION:2.0
PRODID:-//C.M.A.K. Cerkno - ECPv5.10.0//NONSGML v1.0//EN
CALSCALE:GREGORIAN
METHOD:PUBLISH
X-WR-CALNAME:C.M.A.K. Cerkno
X-ORIGINAL-URL:https://cmakcerkno.net
X-WR-CALDESC:Events for C.M.A.K. Cerkno
BEGIN:VTIMEZONE
TZID:Europe/Ljubljana
BEGIN:DAYLIGHT
TZOFFSETFROM:+0100
TZOFFSETTO:+0200
TZNAME:CEST
DTSTART:20160327T010000
END:DAYLIGHT
BEGIN:STANDARD
TZOFFSETFROM:+0200
TZOFFSETTO:+0100
TZNAME:CET
DTSTART:20161030T010000
END:STANDARD
END:VTIMEZONE
BEGIN:VEVENT
DTSTART;TZID=Europe/Ljubljana:20160305T200000
DTEND;TZID=Europe/Ljubljana:20160305T211000
DTSTAMP:20260422T123617
CREATED:20160222T184859Z
LAST-MODIFIED:20160222T184859Z
UID:1799-1457208000-1457212200@cmakcerkno.net
SUMMARY:4. festival Deuje babe | Dokumentarni film: The Moon Inside You
DESCRIPTION:Dokumentarni filmThe Moon Inside You režija Diana Fabiánová\, 2009\, 75 min\, v angleščiniImeti menstruacijo ni zabavno; marsikatero žensko ob tem vsakomesečno spremljajo glavoboli\, krči\, povišana telesna temperatura in depresija\, pri čemer mora vse to skrivati. Dokumentarni film The Moon Inside You slovaške režiserke Diane Fabiánove prikazuje avtoričino iskanje odgovorov na vprašanja in tabuje\, povezane z naravnim ciklom v ženskem telesu. O menstruaciji se je pogovarjala s strokovnjaki iz različnih strok in tudi z nekaj »alternativnimi« terapevti ter intervjuje prepletla s svojimi duhovitimi\, samoironičnimi razmišljanji\, video-dnevniškimi izseki 11-letne deklice Dominike o pričakovanju prve mesečne krvavitve in zabavnimi animacijami. Dokumentarni film The Moon Inside You obravnava menstruacijo kot fenomen ter sooča osebno izkušnjo gledalk in gledalcev z družbenimi predsodki. \nPovezava: http://www.mooninsideyou.com/v2/en \nVstop prost. \nRežiserki Diani Fabiánovi se zahvaljujemo za dovoljenje za brezplačno projekcijo. \nOrganizacija: Deuje babe ( MC C.M.A.K. Cerkno ).
URL:https://cmakcerkno.net/event/4-festival-deuje-babe-dokumentarni-film-the-moon-inside-you/
LOCATION:C.M.A.K. Cerkno\, Bevkova ulica 22\, Cerkno\, 5282\, Slovenija
CATEGORIES:Film
ATTACH;FMTTYPE=image/jpeg:https://cmakcerkno.net/wp-content/uploads/2016/02/12747982_1690969651178534_3506384679806362824_o.jpg
END:VEVENT
END:VCALENDAR