BEGIN:VCALENDAR
VERSION:2.0
PRODID:-//C.M.A.K. Cerkno - ECPv5.10.0//NONSGML v1.0//EN
CALSCALE:GREGORIAN
METHOD:PUBLISH
X-WR-CALNAME:C.M.A.K. Cerkno
X-ORIGINAL-URL:https://cmakcerkno.net
X-WR-CALDESC:Events for C.M.A.K. Cerkno
BEGIN:VTIMEZONE
TZID:Europe/Ljubljana
BEGIN:DAYLIGHT
TZOFFSETFROM:+0100
TZOFFSETTO:+0200
TZNAME:CEST
DTSTART:20180325T010000
END:DAYLIGHT
BEGIN:STANDARD
TZOFFSETFROM:+0200
TZOFFSETTO:+0100
TZNAME:CET
DTSTART:20181028T010000
END:STANDARD
END:VTIMEZONE
BEGIN:VEVENT
DTSTART;TZID=Europe/Ljubljana:20180915T210000
DTEND;TZID=Europe/Ljubljana:20180915T210000
DTSTAMP:20260421T200006
CREATED:20180830T162948Z
LAST-MODIFIED:20180903T081735Z
UID:3010-1537045200-1537045200@cmakcerkno.net
SUMMARY:La Serpentine\, Bad Notion - 20. Festival Cmakajne
DESCRIPTION:Zopet je tu september in z njim jubilejni\, že 20. festival Cmakajne\, kjer se bodo tako kot vedno\, skozi cel mesec Cerknu ter širši okolici v MC C.M.A.K. Cerkno predstavili raznorazni domači in tuji ustvarjalci ter ustvarjalke. \nV soboto 15. septembra se nam bosta predstavili dve zasedbi\, ki v kratkem izdata nov album: \n  \n– Le Serpentine – \n \nLe Serpentine so band iz Kranja. Oboževalci jim zaradi kače v njihovem logotipu ljubkovalno rečejo kar ‘’kačice’’. Če jih še ne poznaš\, je najbolje\, da prideš na njihov koncert. Tam te bodo pičile in se najverjetneje zapičile v tvoj spomin. V kačjem strupu so primesi alternative\, indie rocka in dream popa. Vse to v slovenskem jeziku. Za skupino je že kar nekaj uspešnih koncertov na velikih in malih odrih po vsej Sloveniji. Jeseni leta 2018 izide težko pričakovani drugi album\, ki ga je sproduciral kitarist zasedbe Žiga Jokić. Mastering albuma je naredil Žiga Rezar. Aprila letos je izšel prvi single s prihajajoče plošče – Črnobel\, ki je 11. maja postal tudi popevka tedna na Val 202. \nhttps://www.youtube.com/watch?v=wJnH7luCP6s \n \n  \n  \n– Bad Notion – \nBad Notion je energični glasbeni trio\, ki se nezadržno uveljavlja kot ena najbolj privlačnih blues-rock atrakcij v Sloveniji. Navdušujoča posebnost njihovih nastopov so globoko vživeti blues toni\, ki jih okusno kombinirajo z lahkotnostjo funk-a po eni in težo trdega\nrocka po drugi strani. Nastajajoča zmes redno navdušuje široko občinstvo\, ravnodušnih pa ne pusti niti najzahtevnejših glasbenih sladokuscev. Naj gre za intimo majhnega odra\, spektakel velikega koncerta\, ali kaj vmes\, z energičnim in neutrudnim nastopom pustijo Bad Notion edinstven pečat kjerkoli že se pojavijo. Zasedbo sestavljajo Grega Smola Crnković (kitara in vokal)\, Rok Skoliber (bobni) in Žiga Korenčič (bas kitara). Med glasbene vplive prištevajo velikane\, kot so Jimi Hendrix\, Gov’t Mule\, Jeff Beck\, Michael Landau\, Led Zeppelin\, Robben Ford\, Santana in še številne\ndruge… Svoj glasbeni prvenec bodo širšemu občinstvu predstavili jeseni 2018. \nhttp://badnotion.com/\nhttps://www.youtube.com/watch?v=RINukn6LewE
URL:https://cmakcerkno.net/event/3010/
LOCATION:C.M.A.K. Cerkno\, Bevkova ulica 22\, Cerkno\, 5282\, Slovenija
CATEGORIES:Koncert
ATTACH;FMTTYPE=image/jpeg:https://cmakcerkno.net/wp-content/uploads/2018/08/Cmakajne-banner-small.jpg
END:VEVENT
END:VCALENDAR