BEGIN:VCALENDAR
VERSION:2.0
PRODID:-//C.M.A.K. Cerkno - ECPv5.10.0//NONSGML v1.0//EN
CALSCALE:GREGORIAN
METHOD:PUBLISH
X-WR-CALNAME:C.M.A.K. Cerkno
X-ORIGINAL-URL:https://cmakcerkno.net
X-WR-CALDESC:Events for C.M.A.K. Cerkno
BEGIN:VTIMEZONE
TZID:Europe/Ljubljana
BEGIN:DAYLIGHT
TZOFFSETFROM:+0100
TZOFFSETTO:+0200
TZNAME:CEST
DTSTART:20240331T010000
END:DAYLIGHT
BEGIN:STANDARD
TZOFFSETFROM:+0200
TZOFFSETTO:+0100
TZNAME:CET
DTSTART:20241027T010000
END:STANDARD
END:VTIMEZONE
BEGIN:VEVENT
DTSTART;TZID=Europe/Ljubljana:20240224T180000
DTEND;TZID=Europe/Ljubljana:20240224T180000
DTSTAMP:20260422T004643
CREATED:20240218T224541Z
LAST-MODIFIED:20240218T224944Z
UID:5457-1708797600-1708797600@cmakcerkno.net
SUMMARY:27. obletnica C.M.A.K. 🔸 Razstava "Koncept tretje roke" 🔹 Koncert Dunraven 🔸 Jam session
DESCRIPTION:Vabljeni na rojstne dneve našega mladinskega kluba\, ki že 27 let aktivno skrbi za več pestrega dogajanja v naši lepi luknji Cerkno!  \n\n\n\nPraznovanje bo potekalo v Predavalnici Večnamenskega centra Cerkno (Bevkova 22\, pred dvigalom desno). \n\n\n\nZačeli bomo ob 18.00 z razstavo “Koncept tretje roke”\, ki sta jo pripravili Filipa Valenčić (Sve boje jazza) + Maruša Štibelj . \n\n\n\n\n\n\n\n\n\n\n\nOb 19.00 sledi koncert desert-rockovskega power tria iz Seattla(Bistrice) ob Sotli\, Dunraven!  \n\n\n\n\n\n\n\n Prihajajo s čisto svežo prvo “self-titled” plato. \n\n\n\n\n\n\n\n\n\nPo koncertu pa zađemamo do pozne ure! \n\n\n\nVstop: prostovoljni prispevek \n\n\n\nVabljene in vabljeni! 
URL:https://cmakcerkno.net/event/27-obletnica-c-m-a-k-%f0%9f%94%b8-razstava-koncept-tretje-roke-%f0%9f%94%b9-koncert-dunraven-%f0%9f%94%b8-jam-session/
LOCATION:MC CMAK Cerkno\, Predavalnica VCC\, Bevkova 22
END:VEVENT
END:VCALENDAR