BEGIN:VCALENDAR
VERSION:2.0
PRODID:-//C.M.A.K. Cerkno - ECPv5.10.0//NONSGML v1.0//EN
CALSCALE:GREGORIAN
METHOD:PUBLISH
X-WR-CALNAME:C.M.A.K. Cerkno
X-ORIGINAL-URL:https://cmakcerkno.net
X-WR-CALDESC:Events for C.M.A.K. Cerkno
BEGIN:VTIMEZONE
TZID:Europe/Ljubljana
BEGIN:DAYLIGHT
TZOFFSETFROM:+0100
TZOFFSETTO:+0200
TZNAME:CEST
DTSTART:20250330T010000
END:DAYLIGHT
BEGIN:STANDARD
TZOFFSETFROM:+0200
TZOFFSETTO:+0100
TZNAME:CET
DTSTART:20251026T010000
END:STANDARD
END:VTIMEZONE
BEGIN:VEVENT
DTSTART;TZID=Europe/Ljubljana:20250912T160000
DTEND;TZID=Europe/Ljubljana:20250913T233000
DTSTAMP:20260420T101104
CREATED:20250821T141222Z
LAST-MODIFIED:20250821T141232Z
UID:5779-1757692800-1757806200@cmakcerkno.net
SUMMARY:26. Festival Cmakajne
DESCRIPTION:<!– wp:paragraph –>\n<p> Festival Cmakajne\, praznik Cerkljanskega mladinskega alternativnega kluba\, se po enem letu pavze spet vrača. Na več lokacijah po Cerknem se bomo družili 12. in 13. septembra.</p>\n<!– /wp:paragraph –> \n<!– wp:paragraph –>\n<p>Celoten program sledi kmalu\, tukaj pa je nekaj do sedaj potrjenih:- </p>\n<!– /wp:paragraph –> \n<!– wp:paragraph –>\n<p>Petek: <br>Otvoritev nove razstave <br>CMAKino: No other land (Edina zemlja)</p>\n<!– /wp:paragraph –> \n<!– wp:paragraph –>\n<p>Sobota:<br>- Igranje družabnih iger<br>- Delavnica linoreza/bakroreza<br>- Ustvarjalni kotiček (med drugim tudi izdelava transparentov) <br>- CMAKoncert: GRABN\, Kavekanem\, No offence!<br></p>\n<!– /wp:paragraph –> \n<!– wp:paragraph –>\n<p>Pridte ma CMAKat nawakul! </p>\n<!– /wp:paragraph –>
URL:https://cmakcerkno.net/event/26-festival-cmakajne/
LOCATION:Star plac (Trg pri fontani)\, Cerkno\, Močnikova ulica 8\, Cerkno\, 5282\, Slovenija
CATEGORIES:CMAKoncert,Delavnica,Festival,Film,Razstava
END:VEVENT
END:VCALENDAR