BEGIN:VCALENDAR
VERSION:2.0
PRODID:-//C.M.A.K. Cerkno - ECPv5.10.0//NONSGML v1.0//EN
CALSCALE:GREGORIAN
METHOD:PUBLISH
X-WR-CALNAME:C.M.A.K. Cerkno
X-ORIGINAL-URL:https://cmakcerkno.net
X-WR-CALDESC:Events for C.M.A.K. Cerkno
BEGIN:VTIMEZONE
TZID:Europe/Ljubljana
BEGIN:DAYLIGHT
TZOFFSETFROM:+0100
TZOFFSETTO:+0200
TZNAME:CEST
DTSTART:20230326T010000
END:DAYLIGHT
BEGIN:STANDARD
TZOFFSETFROM:+0200
TZOFFSETTO:+0100
TZNAME:CET
DTSTART:20231029T010000
END:STANDARD
END:VTIMEZONE
BEGIN:VEVENT
DTSTART;TZID=Europe/Ljubljana:20230915T190000
DTEND;TZID=Europe/Ljubljana:20230916T233000
DTSTAMP:20260422T021927
CREATED:20230825T131933Z
LAST-MODIFIED:20230907T133503Z
UID:5261-1694804400-1694907000@cmakcerkno.net
SUMMARY:25. festival Cmakajne
DESCRIPTION:CMAK AJNE! CMA KAJ NE! CMA ZAKAJ PA NE?\n\nCmakajne tudi letos vabi na Cerkljansko grudo s pestrim naborom bendov.\nV letošnji izvedbi bo celoten festival potekal znotraj in okoli naših začasnih prostorov v Večnamenskem centru Cerkno.\n\nFestival otvorimo v petek\, 15.9. ob 19.00 z razstavo “Kolaž kot rekonstrukcija”\, mlade umetnice Klementine Zavšek.\nOba večera pa se bodo ob 20.00 pričeli tudi koncerti.\n\nPetek:\n\n– TSO (Trst) –\nhttps://www.facebook.com/TSOBANDTSO\nhttps://tsomusic3.bandcamp.com/album/in-sanity\n\n\n\n\n\n\n\n– Damir Avdić –\nhttps://www.facebook.com/profile.php?id=100045436346064\nhttps://damiravdic.bandcamp.com/album/mainstream-horror\n\n\n\n\n\n\n– Suzi Soprano –\nhttps://www.facebook.com/suzisoprano\nhttps://suzisoprano.bandcamp.com/album/weltschmerz\n\n\n\n\n\n\nSobota:\n\n– Rebra –\nhttps://www.facebook.com/profile.php?id=100090572415822\nhttps://fb.watch/mVxGNZyNY3\n\n– Morvern –\nhttps://www.facebook.com/profile.php?id=100063568474657\nhttps://morvern.bandcamp.com/album/welcome-to-hell\n\n\n\n\n\n\n– Baptiste Lagrave live set (FR) –\nhttps://www.instagram.com/baptistelagrave/\nhttps://baptistelagrave.bandcamp.com/album/pulsions
URL:https://cmakcerkno.net/event/25cmakajne/
LOCATION:Dvorišče pred VCC\, Bevkova ulica 22\, Cerkno\, 5282\, Slovenija
CATEGORIES:Festival,Koncert,Razstava
END:VEVENT
END:VCALENDAR