BEGIN:VCALENDAR
VERSION:2.0
PRODID:-//C.M.A.K. Cerkno - ECPv5.10.0//NONSGML v1.0//EN
CALSCALE:GREGORIAN
METHOD:PUBLISH
X-WR-CALNAME:C.M.A.K. Cerkno
X-ORIGINAL-URL:https://cmakcerkno.net
X-WR-CALDESC:Events for C.M.A.K. Cerkno
BEGIN:VTIMEZONE
TZID:Europe/Ljubljana
BEGIN:DAYLIGHT
TZOFFSETFROM:+0100
TZOFFSETTO:+0200
TZNAME:CEST
DTSTART:20220327T010000
END:DAYLIGHT
BEGIN:STANDARD
TZOFFSETFROM:+0200
TZOFFSETTO:+0100
TZNAME:CET
DTSTART:20221030T010000
END:STANDARD
END:VTIMEZONE
BEGIN:VEVENT
DTSTART;TZID=Europe/Ljubljana:20220916T200000
DTEND;TZID=Europe/Ljubljana:20220918T150000
DTSTAMP:20260421T033024
CREATED:20220826T151102Z
LAST-MODIFIED:20220826T151102Z
UID:4912-1663358400-1663513200@cmakcerkno.net
SUMMARY:24. festival Cmakajne
DESCRIPTION:Da\, tudi letos Cmakajne bo\, 24-ič zapovrstjo. In to že dokaj kmalu! \n \n16. in 17. september\, dogajanje bo (večinoma) na Starem placu pri fontani. Obetajo se Glasba\, razstava\, delavnice\, ni da ni. \nČe imate tudi sami kak predlog za sodelovanje ali program\, pa kar pišite na cmak2(afna)siol.net. \nVeč sledi v kratkem 🙂
URL:https://cmakcerkno.net/event/24-festival-cmakajne/
LOCATION:Star plac (Trg pri fontani)\, Cerkno\, Močnikova ulica 8\, Cerkno\, 5282\, Slovenija
END:VEVENT
END:VCALENDAR