BEGIN:VCALENDAR
VERSION:2.0
PRODID:-//C.M.A.K. Cerkno - ECPv5.10.0//NONSGML v1.0//EN
CALSCALE:GREGORIAN
METHOD:PUBLISH
X-WR-CALNAME:C.M.A.K. Cerkno
X-ORIGINAL-URL:https://cmakcerkno.net
X-WR-CALDESC:Events for C.M.A.K. Cerkno
BEGIN:VTIMEZONE
TZID:Europe/Ljubljana
BEGIN:DAYLIGHT
TZOFFSETFROM:+0100
TZOFFSETTO:+0200
TZNAME:CEST
DTSTART:20190331T010000
END:DAYLIGHT
BEGIN:STANDARD
TZOFFSETFROM:+0200
TZOFFSETTO:+0100
TZNAME:CET
DTSTART:20191027T010000
END:STANDARD
END:VTIMEZONE
BEGIN:VEVENT
DTSTART;TZID=Europe/Ljubljana:20190216T210000
DTEND;TZID=Europe/Ljubljana:20190216T210000
DTSTAMP:20260421T160512
CREATED:20190111T113026Z
LAST-MODIFIED:20190206T100501Z
UID:3255-1550350800-1550350800@cmakcerkno.net
SUMMARY:22. obletnica CMAK -a: Seul Océan / Protype
DESCRIPTION:Ja\, v MC C.M.A.K. Cerkno jih pihnemo 22\, svečk na torti namreč. Že toliko let cerkljanska mladež prostovoljno KLjUBuje luknjam v strehi in s pestrim programom “flika” družbene\, kulturne in ostale luknje cerkljanskega kotla. \nZa dvaindvajset let nam bosta zaigrali dve domači zasedbi\, Rovtarji Seul Océan\, ki osvajajo z novim\, prvim albumom “Je Fais Revivre” in hribovski Primorci PROTYPE\, na svojem sploh prvem koncertu!  \nNa mnoge! \nSeul Océan\nKvartet\, ki obratuje od leta 2014 in prideluje izključno inštrumentalne plodove. Po tajni frankofonski metodi so uglasbili svojevrsten zliv post-rocka\, metala ter progresive\, ki seže od prijetnih občutkov zasanjanosti do epskega nažiganja kitar. Novembra 2018 so izdali prvenec Je Fais Revivre\, ki je utrdil njihovo mesto na slovenski glasbeni sceni. \nhttps://seuloc-an.bandcamp.com/album/je-fais-revivre\nhttps://www.youtube.com/watch?v=R5EZgJRdEpI\nhttps://www.youtube.com/watch?v=CzqRWkwiFtg \nPROTYPE\nČisto sveža zasedba\, ki se bo v C.M.A.K. – u oh in sploh prvič pojavila na odru. Prisegajo na samosvojo zmešanico nu-groove-sludge-metala\, v besedilh pa po zobeh vlačijo politike in razmišljajo o stanju ter posledicah današnje potrošniške družbe. Pazi to – bas igra Kekec\, na poskok zagotovljen! \nhttps://soundcloud.com/gregor-bizjak/zero-zone-beaten-by-the-law?fbclid=IwAR3QPQNzM4Di5_PEq9guSTo0xdbAv83H42dA5t9aN239CXGYeiTGNT–5do
URL:https://cmakcerkno.net/event/22-obletnica-cmak-a-seul-ocean-protype/
LOCATION:C.M.A.K. Cerkno\, Bevkova ulica 22\, Cerkno\, 5282\, Slovenija
CATEGORIES:CMAKoncert
ATTACH;FMTTYPE=image/jpeg:https://cmakcerkno.net/wp-content/uploads/2018/12/cmak_grafit.jpg
END:VEVENT
END:VCALENDAR