BEGIN:VCALENDAR
VERSION:2.0
PRODID:-//C.M.A.K. Cerkno - ECPv5.10.0//NONSGML v1.0//EN
CALSCALE:GREGORIAN
METHOD:PUBLISH
X-WR-CALNAME:C.M.A.K. Cerkno
X-ORIGINAL-URL:https://cmakcerkno.net
X-WR-CALDESC:Events for C.M.A.K. Cerkno
BEGIN:VTIMEZONE
TZID:Europe/Ljubljana
BEGIN:DAYLIGHT
TZOFFSETFROM:+0100
TZOFFSETTO:+0200
TZNAME:CEST
DTSTART:20180325T010000
END:DAYLIGHT
BEGIN:STANDARD
TZOFFSETFROM:+0200
TZOFFSETTO:+0100
TZNAME:CET
DTSTART:20181028T010000
END:STANDARD
END:VTIMEZONE
BEGIN:VEVENT
DTSTART;TZID=Europe/Ljubljana:20180224T210000
DTEND;TZID=Europe/Ljubljana:20180224T235900
DTSTAMP:20260421T122902
CREATED:20180107T115852Z
LAST-MODIFIED:20180107T115926Z
UID:2637-1519506000-1519516740@cmakcerkno.net
SUMMARY:21. obletnica: Raggalution\, ### in LjubljanJah Vibes
DESCRIPTION:RAGGALUTION (Kranj)\nRaggalution iz Kranja že od leta 2011 ustvarjajo svojo edinstveno interpretacijo reggae glasbe. Zasedbo sedmih glasbenikov združuje ljubezen do izročila in tradicije te jamajške zvrsti\, a Kranj ni Kingston in zato je tudi glasba\, ki jo ustvarjajo dokaj drugačna od pričakovanj\, ki se nam vzbudijo ob besedi reggae. Odkar so ob koncu leta 2013 izdali prvenec Mask of Liberty so Raggalution obiskali odre od Grčije na jugu do Češke na severu in povsod vmes. Med drugim se lahko pohvalijo z nastopi na nekaj večjih evropskih odrih\, kot na primer na Madžarskem Sziget festivalu in našem Overjam International Reggae festivalu. \nhttps://www.facebook.com/Raggalution\nhttp://www.raggalution.com/\nhttp://raggalution.bandcamp.com/ \n  \n### (Sisak)\n### je alternativni inštrumentalni post rock/noise’n’roll trio iz hrvaškega Siska. Pri svojem ustvarjanju nikoli ne gledajo nazaj in se vedno držijo načela “naredi sam”\, pa čeprav bi to pomenilo da morajo razstaviti in prenesti studio v zapuščeno tovarno ali mogoče v Beograd. Ne obžalujejo niti\, da so za videospot skupaj zbili 300 lesenih križev in jih na koncu prepustili toku reke. Njihove prve posnetke najdemo na split albumu\, ki so ga izdali skupaj z sedaj že legendarnimi Punčkami\, v samozaložbi pa so do sedaj izdali tudi 3 ep-je in ploščo Svijetlo. Na koncertu v MC CMAK Cerkno\, ki bo njihov prvi nastop v Sloveniji pa bojo predstavljali čisto svež EP “Uzvodno”\, ki je/bo izšel v prvih dneh novega leta. \nza slušati: https://d-d-d.bandcamp.com/\nza gledati: https://www.youtube.com/user/dRdRdR333SK\ninsta: https://www.instagram.com/taraba_taraba_taraba/\nfb: https://www.facebook.com/dRdRdR-189002591246840/ \n  \nLjubljanJah Vibes (Ljubljana)\nPoleg bendov ### in Raggalution v Cerkno prvič prihajajo LionShine in Dj L.T. iz društva LjubljanJah Vibes\, ki bodo z glasbeno selekcijo poskrbeli\, da žur traja do jutranjih ur!\nLjubljanJah Vibes je glasbeno kulturno društvo\, iz rdeče-rumeno-zelene prestolnice prelepe Slovenije. Njihovi prvi koraki so se pričeli dve leti nazaj\, kjer so se po zaslugi Roots in Session sounda prvič spoznali in kasneje tudi dobili idejo o združitvi pod enim imenom.\nV dveh letih so nastopili na festivalih kot so TrnFest\, Lent in Overjam. Večkrat so bili gosti na klubskih večerih ljubljanskega DubLaba\, pred kratkim pa so tudi izvajali tedenske radijske oddaje pod imenom “LJUBLJANJAH VIBES RADIOSHOW” v Centralni Postaji na Trubarjevi. \nLjubljanJah Vibes na FB: https://www.facebook.com/ljubljanjahvibes/\nLjubljanJah Vibes na MixCloud: https://www.mixcloud.com/LjubljanJahVibes/\nLjubljanJah Vibes na SoundCloud: https://soundcloud.com/ljubljanjah \nLjubljanJah Vibes na Twitter: https://twitter.com/LjubljanJahV \nLjubljanJah Vibes na Instagram: https://www.instagram.com/ljubljanjahvibes/ \nLjubljanJah Vibes na Spotify: https://open.spotify.com/user/ljubljanjahvibes \nLjubljanJah Vibes na Gmail: ljubljanjahvibes@gmail.com \nVideo material: yt posnetek\, ki beleži nastop v Litiji za dan mladosti v sodelovanju z Klubsko Sceno. Sešn je dolg 2 uri.\nhttps://www.youtube.com/watch?v=JGs3cadQapc
URL:https://cmakcerkno.net/event/21-obletnica-raggalution-in-ljubljanjah-vibes/
CATEGORIES:CMAKoncert
ATTACH;FMTTYPE=image/jpeg:https://cmakcerkno.net/wp-content/uploads/2018/01/21.-obletnica.jpg
END:VEVENT
END:VCALENDAR