BEGIN:VCALENDAR
VERSION:2.0
PRODID:-//C.M.A.K. Cerkno - ECPv5.10.0//NONSGML v1.0//EN
CALSCALE:GREGORIAN
METHOD:PUBLISH
X-WR-CALNAME:C.M.A.K. Cerkno
X-ORIGINAL-URL:https://cmakcerkno.net
X-WR-CALDESC:Events for C.M.A.K. Cerkno
BEGIN:VTIMEZONE
TZID:Europe/Ljubljana
BEGIN:DAYLIGHT
TZOFFSETFROM:+0100
TZOFFSETTO:+0200
TZNAME:CEST
DTSTART:20180325T010000
END:DAYLIGHT
BEGIN:STANDARD
TZOFFSETFROM:+0200
TZOFFSETTO:+0100
TZNAME:CET
DTSTART:20181028T010000
END:STANDARD
END:VTIMEZONE
BEGIN:VEVENT
DTSTART;TZID=Europe/Ljubljana:20180921T210000
DTEND;TZID=Europe/Ljubljana:20180921T210000
DTSTAMP:20260421T203914
CREATED:20180830T163849Z
LAST-MODIFIED:20180906T175621Z
UID:3011-1537563600-1537563600@cmakcerkno.net
SUMMARY:Strategia Tensie\, Mirko Grozny\, Cyka Blyat - 20. festival Cmakajne
DESCRIPTION:Zopet je tu september in z njim jubilejni\, že 20. festival Cmakajne\, kjer se bodo tako kot vedno\, skozi cel mesec Cerknu ter širši okolici v MC C.M.A.K. Cerkno predstavili raznorazni domači in tuji ustvarjalci ter ustvarjalke. \nNa predzadnjem večeru letošnjega Cmakajna se nam bosta predstavili dve glasbeno raznoliki dokaj frišni glasbeni zasedbi: \nSTRATEGIA TENSIE je frišn kolektiv iz metelkovske črne rupe\, ki na umazane trap podlage kao repuje o absurdih post-acerbične dobe.\nWho d fuck is Aldo Moro?! \nMIRKO GROZNY\, novomeški tovariš mc\, ki se vedno odzove na klic tete iz ozadja. 10/10\, will call again.\nhttps://www.facebook.com/mirkogrozny/\n \nCYKA BLYAT je hardcore crust zasedba iz Železnikov. Kratko in jedrnato.\nhttps://www.facebook.com/Cyka-blyat-crust-114642879209159/
URL:https://cmakcerkno.net/event/20-festival-cmakajne-3-vikend-petek/
LOCATION:C.M.A.K. Cerkno\, Bevkova ulica 22\, Cerkno\, 5282\, Slovenija
CATEGORIES:Koncert
ATTACH;FMTTYPE=image/jpeg:https://cmakcerkno.net/wp-content/uploads/2018/08/Cmakajne2018.jpg
END:VEVENT
END:VCALENDAR