BEGIN:VCALENDAR
VERSION:2.0
PRODID:-//C.M.A.K. Cerkno - ECPv5.10.0//NONSGML v1.0//EN
CALSCALE:GREGORIAN
METHOD:PUBLISH
X-WR-CALNAME:C.M.A.K. Cerkno
X-ORIGINAL-URL:https://cmakcerkno.net
X-WR-CALDESC:Events for C.M.A.K. Cerkno
BEGIN:VTIMEZONE
TZID:Europe/Ljubljana
BEGIN:DAYLIGHT
TZOFFSETFROM:+0100
TZOFFSETTO:+0200
TZNAME:CEST
DTSTART:20180325T010000
END:DAYLIGHT
BEGIN:STANDARD
TZOFFSETFROM:+0200
TZOFFSETTO:+0100
TZNAME:CET
DTSTART:20181028T010000
END:STANDARD
END:VTIMEZONE
BEGIN:VEVENT
DTSTART;TZID=Europe/Ljubljana:20180908T210000
DTEND;TZID=Europe/Ljubljana:20180908T210000
DTSTAMP:20260421T195348
CREATED:20180830T162735Z
LAST-MODIFIED:20180903T081748Z
UID:3009-1536440400-1536440400@cmakcerkno.net
SUMMARY:Žagalni večer: Agan\, Lintver \,Blackoutt – 20. Festival Cmakajne
DESCRIPTION:Zopet je tu september in z njim jubilejni\, že 20. festival Cmakajne\, kjer se bodo tako kot vedno\, skozi cel mesec Cerknu ter širši okolici v MC C.M.A.K. Cerkno predstavili raznorazni domači in tuji ustvarjalci ter ustvarjalke. \nPrvi dan festivala bodo za veter v laseh poskrbeli: \n– Agan –\nV ozki dolini\, ki je imenovana Baška grapa\, se je rodila ideja o pripovedovanju zgodb\, ki črpajo snov iz narave in človeške duše. Ta ideja je poimenovana z arhaično slovensko besedo Agan.\nAgan je simbioza udarnih bobnov\, kitar\, ki rjovijo ter kričijo iz globin in orkestracij\, ki segajo do neba. \nhttps://www.youtube.com/watch?v=5k-Vn_Jv3-U \n \n– Lintver –\nBend je bil ustanovljen leta 2004\, ko so mladi Brici začeli preigravati priredbe metalskih legend. Kmalu zatem so začeli ustvarjati avtorsko glasbo\, ki je orientirana v trash metal stil na Lintverski način (z vplivom tako legendarne Bay-area scene kot stare nemške šole). Leta 2008 so fantje v Studio P.L.C.posneli prvi demo »The saints are coming«\, ki je vseboval 5 avtorskih komadov. Sledilo je intenzivno koncertiranje po slovenskih klubih in festivalih (Metal mania\, Metalcamp warmup\, Metalkramp\, Thrash down…)\, odigrali pa so tudi nekaj koncertov čez mejo. Bend je oktobra 2013 izdal prvenec poimenovan »Snakebite«. Po nekaj spremembah v postavi benda so leta 2016 izdali drugi albumi ”Distorted Perception’\, ki so ga preko založbe iz Ontaria – PRC MUSIC izdali tudi onkraj velike luže. \nhttps://www.youtube.com/watch?v=5JY4JRBp0Dw \n– Blackoutt –\nBlackoutt so štiričlanska stoner rock skupina iz Postojne\, ki si s svojo brezkompromisno riffovsko glasbo\, obdano s psihadeličnimi kitarami že vrsto let utira pot po klubovskih in festivalnih odrih doma in v tujini. Tako fantje podajajo svoj surovi inštrumental\, ki mu niti ni\nmar za odsotnost vokalnih linij. V letu 2013 je skupina izdala svoj prvenec z naslovom BEHIND s katerim\, še dokaj sveži na inštrumentalni poti\, kažejo odločen razvoj v zgodbeno\natmosferični smeri\, ta pa se še jasneje izraža na prihajajočem drugem albumu THE CULTURE OF. \n \nVstop prost!
URL:https://cmakcerkno.net/event/20-festival-cmakajne-1-vikend/
LOCATION:C.M.A.K. Cerkno\, Bevkova ulica 22\, Cerkno\, 5282\, Slovenija
CATEGORIES:Koncert
ATTACH;FMTTYPE=image/jpeg:https://cmakcerkno.net/wp-content/uploads/2018/08/Cmakajne-banner-small.jpg
END:VEVENT
END:VCALENDAR