BEGIN:VCALENDAR
VERSION:2.0
PRODID:-//C.M.A.K. Cerkno - ECPv5.10.0//NONSGML v1.0//EN
CALSCALE:GREGORIAN
METHOD:PUBLISH
X-WR-CALNAME:C.M.A.K. Cerkno
X-ORIGINAL-URL:https://cmakcerkno.net
X-WR-CALDESC:Events for C.M.A.K. Cerkno
BEGIN:VTIMEZONE
TZID:Europe/Ljubljana
BEGIN:DAYLIGHT
TZOFFSETFROM:+0100
TZOFFSETTO:+0200
TZNAME:CEST
DTSTART:20160327T010000
END:DAYLIGHT
BEGIN:STANDARD
TZOFFSETFROM:+0200
TZOFFSETTO:+0100
TZNAME:CET
DTSTART:20161030T010000
END:STANDARD
END:VTIMEZONE
BEGIN:VEVENT
DTSTART;TZID=Europe/Ljubljana:20160909T220000
DTEND;TZID=Europe/Ljubljana:20160910T010000
DTSTAMP:20260421T113739
CREATED:20160831T101009Z
LAST-MODIFIED:20160831T101009Z
UID:1940-1473458400-1473469200@cmakcerkno.net
SUMMARY:18. festival Cmakajne // Koncert: Poltrona Express
DESCRIPTION:18. festival Cmakajne bo otvorila domača blues rock zasedba Poltrona Express. Začetki njihovega delovanja segajo v leto 2007. Leta 2008 so se prvič predstavili cerkljanski publiki na festivalu Cmakajne in tam posneli svoje prve avdio in video posnetke. Na letošnjem festivalu pa bodo predstavili svoj prvenec Zaženi nov dan\, ki je luč sveta ugledal meseca maja letos. Na njem najdemo deset avtorskih skladb\, ki se ženrsko gibljejo med bluesom\, rockom in funkom. Tematika besedil je družbeno kritična\, v glasbi pa se čutijo številni vplivi predvsem iz obdobja 70ih let. \nPoleg avtorske glasbe\, na kocertih izvajajo tudi priredbe sedaj že legendarnih izvajalcev bluesa. Člani zasedbe trenutno sodelujejo z zasedbami: Feedback\, Kar Češ  Brass Band\, Salamandra Salamandra\, Divje jezero… \nZasedba:\nTomaž Lapanja – glas\, orglice\nMatej Magajne – kitara\nMatija Purgar – bas kitara\nŽiga Kovačič – Hammond orgle\, električni klavir\, sintetizator\nAlen Bogataj – bobni\, tolkala \n  \nhttps://www.facebook.com/poltronaexpress/ \nhttps://www.youtube.com/watch?v=FeYr7j2A7Ns \nhttps://www.youtube.com/watch?v=XLJ07tWx8wI \nhttps://www.youtube.com/watch?v=XP-kSFRqz6g
URL:https://cmakcerkno.net/event/18-festival-cmakajne-koncert-poltrona-express/
CATEGORIES:Koncert
ATTACH;FMTTYPE=image/jpeg:https://cmakcerkno.net/wp-content/uploads/2016/08/11745433_1635886756626248_8959982756732400492_n.jpg
END:VEVENT
END:VCALENDAR