BEGIN:VCALENDAR
VERSION:2.0
PRODID:-//C.M.A.K. Cerkno - ECPv5.10.0//NONSGML v1.0//EN
CALSCALE:GREGORIAN
METHOD:PUBLISH
X-WR-CALNAME:C.M.A.K. Cerkno
X-ORIGINAL-URL:https://cmakcerkno.net
X-WR-CALDESC:Events for C.M.A.K. Cerkno
BEGIN:VTIMEZONE
TZID:Europe/Ljubljana
BEGIN:DAYLIGHT
TZOFFSETFROM:+0100
TZOFFSETTO:+0200
TZNAME:CEST
DTSTART:20160327T010000
END:DAYLIGHT
BEGIN:STANDARD
TZOFFSETFROM:+0200
TZOFFSETTO:+0100
TZNAME:CET
DTSTART:20161030T010000
END:STANDARD
END:VTIMEZONE
BEGIN:VEVENT
DTSTART;TZID=Europe/Ljubljana:20160910T210000
DTEND;TZID=Europe/Ljubljana:20160911T020000
DTSTAMP:20260421T132151
CREATED:20160905T131102Z
LAST-MODIFIED:20160905T150353Z
UID:1945-1473541200-1473559200@cmakcerkno.net
SUMMARY:18. festival Cmakajne // Koncert: Bowrain in Neon Lies (Hr) in DJ Jurc
DESCRIPTION:BOWRAIN  \nTine Grgurevič je slovenski skladatelj\, pianist in producent. Leta 2012 je pričel nastopati pod imenom Bowarin in leta 2014 izdal svoj prvenec Far Out\, ki je bil premierno predstavljen v Amsterdamu. Nastopil je kor predskupina zasedbam LAMB\, Gaden City Movement\, Jessy Lanza\, Arms and Sleapers. \nPreden je začel z ustvarjanjem elektronske glasbe je deloval kot jazz pianist in skladatelj. Posnel je dva jazz albuma. Poleg avtorske glasbe pa ustvarja tudi glasbo za umetniške inštalacije videoumetnikov. \nhttps://www.facebook.com/bowrainsound/\nhttp://www.bowrain.org/ \nNEON LIES (Hr)  \nGre za solo projekt Gorana Lautarja\, ki ga nekateri poznate kot frontman-a zasedbe Modern Delusion. Ustvarja darkwave/synthpunk glasbo. S projektom Neon Lies je pričel nastopati v lanskem letu. Njegovo glasbo nekateri opisujejo kot manično in intenzivno. \nhttps://www.facebook.com/Neon-Lies-1639630016284491/\nhttps://neonlies.bandcamp.com/releases\n \nPo koncertu sledi DJ JURC. \n 
URL:https://cmakcerkno.net/event/18-festival-cmakajne-koncert-bowrain-in-neon-lies-hr/
CATEGORIES:Koncert
ATTACH;FMTTYPE=image/jpeg:https://cmakcerkno.net/wp-content/uploads/2016/09/Bowrain1.jpg
END:VEVENT
END:VCALENDAR