BEGIN:VCALENDAR
VERSION:2.0
PRODID:-//C.M.A.K. Cerkno - ECPv5.10.0//NONSGML v1.0//EN
CALSCALE:GREGORIAN
METHOD:PUBLISH
X-WR-CALNAME:C.M.A.K. Cerkno
X-ORIGINAL-URL:https://cmakcerkno.net
X-WR-CALDESC:Events for C.M.A.K. Cerkno
BEGIN:VTIMEZONE
TZID:Europe/Ljubljana
BEGIN:DAYLIGHT
TZOFFSETFROM:+0100
TZOFFSETTO:+0200
TZNAME:CEST
DTSTART:20160327T010000
END:DAYLIGHT
BEGIN:STANDARD
TZOFFSETFROM:+0200
TZOFFSETTO:+0100
TZNAME:CET
DTSTART:20161030T010000
END:STANDARD
END:VTIMEZONE
BEGIN:VEVENT
DTSTART;TZID=Europe/Ljubljana:20160918T160000
DTEND;TZID=Europe/Ljubljana:20160918T180000
DTSTAMP:20260421T015933
CREATED:20160906T082424Z
LAST-MODIFIED:20160906T082424Z
UID:1960-1474214400-1474221600@cmakcerkno.net
SUMMARY:18. festival Cmakajne // Delavnica spolnega zdravja
DESCRIPTION:DELAVNICE SPOLNEGA ZDRAVJA \nMentorica: Tanja Kovačič (SLO) \nSpolno zdravje je pomemben sestavni del našega telesnega in čustvenega zdravja. Označuje sposobnost uživati v spolnosti skozi celotno življenje. Spolnost in zdravje ocenjujemo kot izredno pomembna\, pa vendar o tem kako vzpostaviti in ohranjati spolno zdravje od staršev in v šoli nismo prejeli zadostnih informacij. \nAvtorica delavnice deluje po načelih holistične spolne vzgoje. Ta spolnosti ne razume zgolj kot skupka spolnih praks in nevarnosti spolno prenosljivih okužb ter nosečnosti. Na spolnost gleda širše in poudarja pomen spolnih pravic\, pravice do starosti in kulturi primerne spolne vzgoje in pravice do zdravstvenih storitev. V središče postavlja komunikacijo med spolnimi partnerji in sposobnost doživljanja spolnih užitkov\, zadovoljstva ter intimnosti. \nMentorica je iz sklopa delavnic holistične spolne vzgoje izbrala tri najbolj zabavne: \n\nNAMIZNA IGRA govori o spolno prenosljivih okužbah.\nPOBARVANKA udeležence nauči poimenovati različne dele genitalij.\nNa delavnici KAJ PRAVI MUZIKA? udeleženci spoznajo stereotipne predstave o ljubezni in zaljubljenosti.\n\n  \nŠTEVILO UDELEŽENCEV: 1 do 8 oseb \nSTAROST: 18+ \nJEZIK: slovenščina ali angleščina \nTRAJANJE DELAVNICE: 1-2 uri \nDelavnice so brezplačne. Prijava ni potrebna.
URL:https://cmakcerkno.net/event/18-festival-cmakajne-delavnica-spolnega-zdravja/
CATEGORIES:Delavnica
ATTACH;FMTTYPE=image/jpeg:https://cmakcerkno.net/wp-content/uploads/2016/09/IMG_3760.jpg
END:VEVENT
END:VCALENDAR