BEGIN:VCALENDAR
VERSION:2.0
PRODID:-//C.M.A.K. Cerkno - ECPv5.10.0//NONSGML v1.0//EN
CALSCALE:GREGORIAN
METHOD:PUBLISH
X-WR-CALNAME:C.M.A.K. Cerkno
X-ORIGINAL-URL:https://cmakcerkno.net
X-WR-CALDESC:Events for C.M.A.K. Cerkno
BEGIN:VTIMEZONE
TZID:Europe/Ljubljana
BEGIN:DAYLIGHT
TZOFFSETFROM:+0100
TZOFFSETTO:+0200
TZNAME:CEST
DTSTART:20160327T010000
END:DAYLIGHT
BEGIN:STANDARD
TZOFFSETFROM:+0200
TZOFFSETTO:+0100
TZNAME:CET
DTSTART:20161030T010000
END:STANDARD
END:VTIMEZONE
BEGIN:VEVENT
DTSTART;TZID=Europe/Ljubljana:20161203T220000
DTEND;TZID=Europe/Ljubljana:20161204T020000
DTSTAMP:20260420T151431
CREATED:20161130T101035Z
LAST-MODIFIED:20161130T101035Z
UID:2015-1480802400-1480816800@cmakcerkno.net
SUMMARY:18. Dan republike
DESCRIPTION:Tudi letos organiziramo zabavo za praznik naše bivše Juge.Žurka s prascem na mizi. Na eni strani solzne oči povrnjenih spominov in na drugi začuden pogled kakšnega mladca\, ki si ne more priznati\, da so se tudi naši starši znali do konca odštekati.
URL:https://cmakcerkno.net/event/18-dan-republike/
LOCATION:C.M.A.K. Cerkno\, Bevkova ulica 22\, Cerkno\, 5282\, Slovenija
CATEGORIES:Klubski večer
ATTACH;FMTTYPE=image/jpeg:https://cmakcerkno.net/wp-content/uploads/2016/11/slika-_original-1387728261-67275.jpg
END:VEVENT
END:VCALENDAR