BEGIN:VCALENDAR
VERSION:2.0
PRODID:-//C.M.A.K. Cerkno - ECPv5.10.0//NONSGML v1.0//EN
CALSCALE:GREGORIAN
METHOD:PUBLISH
X-WR-CALNAME:C.M.A.K. Cerkno
X-ORIGINAL-URL:https://cmakcerkno.net
X-WR-CALDESC:Events for C.M.A.K. Cerkno
BEGIN:VTIMEZONE
TZID:Europe/Ljubljana
BEGIN:DAYLIGHT
TZOFFSETFROM:+0100
TZOFFSETTO:+0200
TZNAME:CEST
DTSTART:20150329T010000
END:DAYLIGHT
BEGIN:STANDARD
TZOFFSETFROM:+0200
TZOFFSETTO:+0100
TZNAME:CET
DTSTART:20151025T010000
END:STANDARD
END:VTIMEZONE
BEGIN:VEVENT
DTSTART;TZID=Europe/Ljubljana:20150911T220000
DTEND;TZID=Europe/Ljubljana:20150911T235500
DTSTAMP:20260421T122902
CREATED:20150827T162229Z
LAST-MODIFIED:20150827T171931Z
UID:1469-1442008800-1442015700@cmakcerkno.net
SUMMARY:17. festival Cmakajne | Koncert: Recycleman in DJ D-Ez
DESCRIPTION:Kdo je ta Kekec?RecycleMan…recikliran DJ Poha\, Ali En\, Sheik Muhammed\, ki naš glasbeni svet pretresa že od leta 1992\, s prepletom hip hop-a\, acid jazz-a\, drum&bass-a\, funk-a. Oder je delil z različnimi znanimi glasbeniki: Laurent Garnier\, Umek\, Boris Dlugosch\, Kevin Saunderson\, Monika Kruse\, Supa DJ Dmitry\, Valentino Kanzyani\, Paul Van Dyk\, Beastie Boys\, The Roots\, Elisa\, Kyril Dzaikovski … Na Cmakajnu nam bo postregel z burekom svojih hitov iz časa Ali En-a in nove funk melodije. \n  \nDJ D-Ez\, že stari znanec C.M.A.K.-ovega odra\,kjer je tudi začel svojo glasbeno popotovanje\, bo tudi na letošnjem Cmakajnu vrtel hip-hop\, drum’n base\, funk \, jazz in rock n’ roll vinilke. Poznamo ga po sodelovanju z različnimi slovenskimi hip-hop mc-ji kot so Valerap\, Brodii in Simon Boris\, s slednjim je po okriljem Klubskega maratona Radia Študent leta 2003 zaokrožil po domačem klubovju.
URL:https://cmakcerkno.net/event/17-festival-cmakajnekoncert-recycleman-in-dj-d-ez/
LOCATION:C.M.A.K. Cerkno\, Bevkova ulica 22\, Cerkno\, 5282\, Slovenija
CATEGORIES:Koncert
ATTACH;FMTTYPE=image/jpeg:https://cmakcerkno.net/wp-content/uploads/2015/08/IMG_5392.jpg
END:VEVENT
END:VCALENDAR