BEGIN:VCALENDAR
VERSION:2.0
PRODID:-//C.M.A.K. Cerkno - ECPv5.10.0//NONSGML v1.0//EN
CALSCALE:GREGORIAN
METHOD:PUBLISH
X-WR-CALNAME:C.M.A.K. Cerkno
X-ORIGINAL-URL:https://cmakcerkno.net
X-WR-CALDESC:Events for C.M.A.K. Cerkno
BEGIN:VTIMEZONE
TZID:Europe/Ljubljana
BEGIN:DAYLIGHT
TZOFFSETFROM:+0100
TZOFFSETTO:+0200
TZNAME:CEST
DTSTART:20150329T010000
END:DAYLIGHT
BEGIN:STANDARD
TZOFFSETFROM:+0200
TZOFFSETTO:+0100
TZNAME:CET
DTSTART:20151025T010000
END:STANDARD
END:VTIMEZONE
BEGIN:VEVENT
DTSTART;TZID=Europe/Ljubljana:20150912T210000
DTEND;TZID=Europe/Ljubljana:20150912T235500
DTSTAMP:20260421T154717
CREATED:20150827T163304Z
LAST-MODIFIED:20150827T171953Z
UID:1474-1442091600-1442102100@cmakcerkno.net
SUMMARY:17. festival Cmakajne | Koncert: Kontradikshn\, NonLinear (It)\, MFHz (It)
DESCRIPTION:Kontradikshn iz Brežic je formacija treh članov\, ki je bila ustanovljena z namenom ustvariti svoj značilen zvok v katerem naviti in drveči sinti apokaliptično trčijo v kitarski zid. \nSkupina na svoj agresiven način neusmiljeno barva rock tkanino z moderno elektroniko in efektivnostjo drum and bassritma\, ki najbolj izžareva v živo. \nNa predlanskem festivalu Jelen Demofest v Banja Luki je ekipa s svojim brezkompromisnim živim nastopom prepričala žirijo\, ki ji je med 400 prijavljenimi in pozneje 34 nastopajočimi ter kot prvi slovenski skupini prisodila drugo mesto. V letu 2012 in 2014 pa je skupina v okviru Mladininega odra nastopila tudi na festivalu Lent v Mariboru. \nLani je izšel prvi EP oz. “mala plošča” z naslovom Anatomy. EP je izšel tako v fizični\, kot digitalni obliki\, ki ga je moč poslušati in dobiti na http://kontradikshn.bandcamp.com \nPred kratkim so izdali tudi prvi single “Memory Dump”\, ki napoveduje prvo polnopravno ploščo z načrtovanim izzidom v novembru 2015. \nPostava: \nPetar Stojanović – vokal\, kitara\, sint ;\nMatej Plešej – kitara\, sint ;\nAnže Kump – bobni ; \n. \n \nNonlinear je leta 2006 ustanovljen italijanski instrumentalni duo\, ki ga sestavljata Vitus in Luchi. Duo je poznan po svoji živi izvedbi elektronske glasbe\, pri kateri vedno iščeta edinstven zvok\, razprostirajoč se od drum ‘n’ bassa do trash metala. Kot pravita\, Nonlinear gre vedno naprej\, ne ozirajoč se na flow. Fanta sta v tem času nastopala skorajda po vsej Evropi in izdala polno glasbenih izdelkov\, trenutno pa delata na novih pesmih\, ki jih bosta predstavila tudi na letošnjem festivalu Cmakajne. \n. \n. \nMFHz prihajajo iz Gorice\, igrajo pa 100% živo elektroniko\, brez uporabe kakršnegakoli loopanja ali vnaprej posnetih avdio posnetkov. Pripravite se na ples in uživanje na popolnoma live koncertu s pravim UK dubstep-d’n’b-electro zvokom! \nZasedba:\nFrancesco Ivone – živa elektronika\nAlessandro Barile – bobni in elektronika
URL:https://cmakcerkno.net/event/17-festival-cmakajnekoncert-kontradikshn-nonlinear-it-mfhz-it/
LOCATION:C.M.A.K. Cerkno\, Bevkova ulica 22\, Cerkno\, 5282\, Slovenija
CATEGORIES:Koncert
ATTACH;FMTTYPE=image/jpeg:https://cmakcerkno.net/wp-content/uploads/2015/08/center1.jpg
END:VEVENT
END:VCALENDAR