BEGIN:VCALENDAR
VERSION:2.0
PRODID:-//C.M.A.K. Cerkno - ECPv5.10.0//NONSGML v1.0//EN
CALSCALE:GREGORIAN
METHOD:PUBLISH
X-WR-CALNAME:C.M.A.K. Cerkno
X-ORIGINAL-URL:https://cmakcerkno.net
X-WR-CALDESC:Events for C.M.A.K. Cerkno
BEGIN:VTIMEZONE
TZID:Europe/Ljubljana
BEGIN:DAYLIGHT
TZOFFSETFROM:+0100
TZOFFSETTO:+0200
TZNAME:CEST
DTSTART:20150329T010000
END:DAYLIGHT
BEGIN:STANDARD
TZOFFSETFROM:+0200
TZOFFSETTO:+0100
TZNAME:CET
DTSTART:20151025T010000
END:STANDARD
END:VTIMEZONE
BEGIN:VEVENT
DTSTART;TZID=Europe/Ljubljana:20150919T170000
DTEND;TZID=Europe/Ljubljana:20150919T180000
DTSTAMP:20260421T041720
CREATED:20150827T164639Z
LAST-MODIFIED:20150827T172006Z
UID:1483-1442682000-1442685600@cmakcerkno.net
SUMMARY:17. festival Cmakajne | Improzatiranje (KUD Transformator)
DESCRIPTION:Improzatiranje je predstava\, ki jo odigrajo po vaših željah. V zadnjem letu so v KUD Transformator razvijali tehniko\, s pomočjo katere lahko nagovorijo skoraj vsako zatirajočo temo. Gledalci boste z njimi delili konkretne situacije zatiranja\, ki jih bodo samo za vas sveže in vroče uprizorili v kratko forumsko predstavo ter skupaj z vami\, gled-igralci\, iskali alternative in načine soočenja z zatirajočo situacijo. \nGledališko-aktivistična skupina Transformator ne želi producirati visoke umetnosti\, ampak se približati ljudem. Transformatorji in Transformatorke svojo ustvarjalno energijo črpajo iz aktualno-družbenih tematik ter jih publiki (gled-igralcem) ponujajo v okus\, obdelavo\, preoblikovanje in konstruktivno kritiko. Njihova specialiteta je delovanje po principu ‘gledališče na klic’. Sladostrastno\, izvirno\, humorno in radodarno gledališko kuhinjo začinjajo z drznimi intervencijami – po potrebi in ad hoc. Ko zapiha transformatorski duh\, vzplamtita ognjeviti socialni čut in potreba po spremembah in transformacijah. Skratka\, uporništvo še nikoli ni bilo tako zabavno\, koristno in z razlogom. \nKulturno umetniško društvo Transformator ali krajše KUD Transformator je bilo ustanovljeno januarja 2012 iz potrebe po širjenju in nadgrajevanju gledališko-aktivističnega poslanstva\, in sicer predvsem\, a ne izključno v tehnikah gledališča zatiranih\, za izvajanje katerih so se člani gledališko-aktivistične skupine predhodno usposabljali.
URL:https://cmakcerkno.net/event/17-festival-cmakajneimprozatiranje-kud-transformator/
LOCATION:Star plac (Trg pri fontani)\, Cerkno\, Močnikova ulica 8\, Cerkno\, 5282\, Slovenija
CATEGORIES:Gledališče
ATTACH;FMTTYPE=image/jpeg:https://cmakcerkno.net/wp-content/uploads/2015/08/KUD-TRANSFORMATOR.jpg
END:VEVENT
END:VCALENDAR