BEGIN:VCALENDAR
VERSION:2.0
PRODID:-//C.M.A.K. Cerkno - ECPv5.10.0//NONSGML v1.0//EN
CALSCALE:GREGORIAN
METHOD:PUBLISH
X-WR-CALNAME:C.M.A.K. Cerkno
X-ORIGINAL-URL:https://cmakcerkno.net
X-WR-CALDESC:Events for C.M.A.K. Cerkno
BEGIN:VTIMEZONE
TZID:Europe/Ljubljana
BEGIN:DAYLIGHT
TZOFFSETFROM:+0100
TZOFFSETTO:+0200
TZNAME:CEST
DTSTART:20150329T010000
END:DAYLIGHT
BEGIN:STANDARD
TZOFFSETFROM:+0200
TZOFFSETTO:+0100
TZNAME:CET
DTSTART:20151025T010000
END:STANDARD
END:VTIMEZONE
BEGIN:VEVENT
DTSTART;TZID=Europe/Ljubljana:20150926T210000
DTEND;TZID=Europe/Ljubljana:20150926T235500
DTSTAMP:20260421T033040
CREATED:20150827T171442Z
LAST-MODIFIED:20150827T171442Z
UID:1497-1443301200-1443311700@cmakcerkno.net
SUMMARY:17. festival Cmakajne | Koncert: Koromač\, Threesome (Srb)\, Clockwork Psycho
DESCRIPTION:Leta 2009 nastala zasedba Koromač prihaja iz Vrtojbe\, katere glasbeni izraz plava v hardcore-crust-pank vodah. Začenši kot trio so pred parimi leti svoj zvok še nadgradili\, saj so »tipičnim« pankovskim inštrumentom dodali še saksofon\, obenem pa je njihov glasben izraz pridobil še noisersko noto. Besedila pripovedujejo o osamljenosti človeka\, a je njihova celotna zgodba oblečena v pozitiven\, energičen in glasno hrupen kitarski zvok.Koromač so:Matjaž Bajc – basAljaž Škrlep – kitaraUrban Kušar – bobniŽiga Ipavec – bobniPeter Kastrin – kitaraJure Boršič – saksofon \n. \nThreesome\, eksplozivni surf rock trio iz Beograda. Band je nastal leta 2010\, njihova glasba je preplet surf rock stila iz 60´ in new wave glasbe\, punk-a in math rock-a. Nastopali so po Evropi ter surfali tudi po odrih Kalifornije. \nUroš Milkić – kitara\nPeter Živić – bas kitara\nJovana Petrović – bobni \n. \n. \nPsychobilly band Clockwork Psycho je nastal leta 2011\, združuje tri izkušene glasbenike\, ki so glasbeno kilometrino nabirali že v drugih punk\, ska in oi zasedbah. Moč jih je bilo videti že na veliko odrih po Sloveniji in tujini\, večjih in majšnih turnejah\, kjer je treba omeniti evropsko turnejo s Koffin Kats.\nNjihova glasba bo napadla vaše možgane\, tako kot lačni zombiji. \nClockwork Lilith – vokal\, kontrabas\nAl Eržen – vokal\, kitara\nMare – bobni
URL:https://cmakcerkno.net/event/17-festival-cmakajne-koncert-koromac-threesome-srb-clockwork-psycho/
LOCATION:C.M.A.K. Cerkno\, Bevkova ulica 22\, Cerkno\, 5282\, Slovenija
CATEGORIES:Koncert
ATTACH;FMTTYPE=image/jpeg:https://cmakcerkno.net/wp-content/uploads/2015/08/Koromac_logo.jpg
END:VEVENT
END:VCALENDAR