BEGIN:VCALENDAR
VERSION:2.0
PRODID:-//C.M.A.K. Cerkno - ECPv5.10.0//NONSGML v1.0//EN
CALSCALE:GREGORIAN
METHOD:PUBLISH
X-WR-CALNAME:C.M.A.K. Cerkno
X-ORIGINAL-URL:https://cmakcerkno.net
X-WR-CALDESC:Events for C.M.A.K. Cerkno
BEGIN:VTIMEZONE
TZID:Europe/Ljubljana
BEGIN:DAYLIGHT
TZOFFSETFROM:+0100
TZOFFSETTO:+0200
TZNAME:CEST
DTSTART:20150329T010000
END:DAYLIGHT
BEGIN:STANDARD
TZOFFSETFROM:+0200
TZOFFSETTO:+0100
TZNAME:CET
DTSTART:20151025T010000
END:STANDARD
END:VTIMEZONE
BEGIN:VEVENT
DTSTART;TZID=Europe/Ljubljana:20150918T190000
DTEND;TZID=Europe/Ljubljana:20150918T210000
DTSTAMP:20260421T173228
CREATED:20150827T164000Z
LAST-MODIFIED:20150827T171958Z
UID:1478-1442602800-1442610000@cmakcerkno.net
SUMMARY:17. festival Cmakajne | Kokoška in ptiči - predstavitev knjige Vesne Lemaić
DESCRIPTION:Na literarnem večeru z Vesno Lemaić se bo pogovarjala Tea Hvala. Predstavili bosta roman Kokoška in ptiči. Gre za knjigo o uporu\, iskanju moči in samoorganiziranju v času krize. V ospredje je postavljeno dogajanje v letih 2011 in 2012\, ko protestnice in protestniki v okviru gibanja 15o zasedejo ploščad pred borzo in se za šest mesecev utaborijo v kampu Bojza. Pod dogajalnim površjem avtorica spregovarja o skritih zobnikih medčloveških odnosov\, ljubezni\, iskanju svojega mesta v družbi in osmišljevanju upora.Vesna Lemaić je napisala kratkoprozno zbirko Popularne zgodbe (2008). Leta 2010 je izšel njen roman Odlagališče (s samooznako »lezbični akcijski triler«). Vključila se je v gibanje 15o in na podlagi te izkušnje zasnovala roman Kokoška in ptiči\, ki je pred kratkim izšel v zbirki Škuc – Lambda.
URL:https://cmakcerkno.net/event/17-festival-cmakajne-kokoska-in-ptici-predstavitev-knjige-vesne-lemaic/
LOCATION:Bevkova knjižnica Cerkno\, Platiševa ulica 5\, Cerkno\, 5282\, Slovenija
CATEGORIES:Predstavitev in debata
ATTACH;FMTTYPE=image/jpeg:https://cmakcerkno.net/wp-content/uploads/2015/08/Kokoska-in-ptici-naslovnica.jpg
END:VEVENT
END:VCALENDAR