BEGIN:VCALENDAR
VERSION:2.0
PRODID:-//C.M.A.K. Cerkno - ECPv5.10.0//NONSGML v1.0//EN
CALSCALE:GREGORIAN
METHOD:PUBLISH
X-WR-CALNAME:C.M.A.K. Cerkno
X-ORIGINAL-URL:https://cmakcerkno.net
X-WR-CALDESC:Events for C.M.A.K. Cerkno
BEGIN:VTIMEZONE
TZID:Europe/Ljubljana
BEGIN:DAYLIGHT
TZOFFSETFROM:+0100
TZOFFSETTO:+0200
TZNAME:CEST
DTSTART:20150329T010000
END:DAYLIGHT
BEGIN:STANDARD
TZOFFSETFROM:+0200
TZOFFSETTO:+0100
TZNAME:CET
DTSTART:20151025T010000
END:STANDARD
END:VTIMEZONE
BEGIN:VEVENT
DTSTART;TZID=Europe/Ljubljana:20150920T103000
DTEND;TZID=Europe/Ljubljana:20150920T120000
DTSTAMP:20260421T075443
CREATED:20150827T165610Z
LAST-MODIFIED:20150827T165610Z
UID:1489-1442745000-1442750400@cmakcerkno.net
SUMMARY:17. festival Cmakajne | Eva Podlogar: Magija v sodobnem svetu in black metalu
DESCRIPTION:Eva Podlogar nam bo na predavanju predstavila zgodovinski in antropološki pogled na magijo ter dojemanje tega pojma med black metalsko subkulturo. Izrazu “magija” je sledila od najstarejših zapisov do danes in to prenašanje pojma skozi čas nam razkriva spreminjanje njegovega pomena v odnosu do okolja\, največkrat v povezavi z politično in/ali cerkveno oblastjo. V tem oziru bo predstavila različnejše pristope in definicije\, praviloma antropološke\, glede raziskovanja magije\, ki jo sicer poskuša postavljati v globalen okvir. V ocene teh teorij pa nam bo pot utrla glasba black metala\, ki je na eni strani prepolna magičnih simbolov\, na drugi pa izziv za raziskovanje samega zvoka ter zvočnega učinka na poslušalca.
URL:https://cmakcerkno.net/event/17-festival-cmakajne-eva-podlogar-magija-v-sodobnem-svetu-in-black-metalu/
LOCATION:C.M.A.K. Cerkno\, Bevkova ulica 22\, Cerkno\, 5282\, Slovenija
CATEGORIES:Predavanje
ATTACH;FMTTYPE=image/jpeg:https://cmakcerkno.net/wp-content/uploads/2015/08/NVC2015.plakat01.jpg
END:VEVENT
END:VCALENDAR