BEGIN:VCALENDAR
VERSION:2.0
PRODID:-//C.M.A.K. Cerkno - ECPv5.10.0//NONSGML v1.0//EN
CALSCALE:GREGORIAN
METHOD:PUBLISH
X-WR-CALNAME:C.M.A.K. Cerkno
X-ORIGINAL-URL:https://cmakcerkno.net
X-WR-CALDESC:Events for C.M.A.K. Cerkno
BEGIN:VTIMEZONE
TZID:Europe/Ljubljana
BEGIN:DAYLIGHT
TZOFFSETFROM:+0100
TZOFFSETTO:+0200
TZNAME:CEST
DTSTART:20150329T010000
END:DAYLIGHT
BEGIN:STANDARD
TZOFFSETFROM:+0200
TZOFFSETTO:+0100
TZNAME:CET
DTSTART:20151025T010000
END:STANDARD
END:VTIMEZONE
BEGIN:VEVENT
DTSTART;TZID=Europe/Ljubljana:20151128T210000
DTEND;TZID=Europe/Ljubljana:20151128T235500
DTSTAMP:20260421T174530
CREATED:20151006T161036Z
LAST-MODIFIED:20151125T103135Z
UID:1536-1448744400-1448754900@cmakcerkno.net
SUMMARY:17. Dan republike z Dej še'n litro
DESCRIPTION:Nostalgija na dan Republike Jugoslavije. Kdaj najpomembnejši praznik\, je po razpadu Jugoslavije kaj hitro šel v pozabo. V C.M.A.K.-u ga na mnoge načine\, predvsem pa s prascem na mizi\, obujamo že šestnajsto leto zapored. Na eni strani solzne oči povrnjenih spominov in na drugi začuden pogled kakšnega mladca\, ki si ne more priznati\, da so se tudi naši starši znali do konca odštekati. \nTokratni praznik bomo prav tako popestrili s CMAKoncertom\, na katerem bodo zasvirali Dej še’n litro. \nDej še’n litro \nNastali so leta 1999 na študentskih žurkah. Nastali so praktično iz nič in so tam tudi ostali. Štorja se je začela tako\, da so bile v apartmajih na Gerbičevi študentske žurke in so kar nenapovedano uleteli z inštrumenti. In to je to. In od takrat igramo na ta način. \nhttp://www.dejsenlitro.com/\nhttps://www.facebook.com/Dej-šen-litro-103637730113/?fref=ts
URL:https://cmakcerkno.net/event/17-dan-republike/
LOCATION:C.M.A.K. Cerkno\, Bevkova ulica 22\, Cerkno\, 5282\, Slovenija
CATEGORIES:Klubski večer
ATTACH;FMTTYPE=image/jpeg:https://cmakcerkno.net/wp-content/uploads/2015/11/dej-še-n-litro_01.jpg
END:VEVENT
END:VCALENDAR