BEGIN:VCALENDAR
VERSION:2.0
PRODID:-//C.M.A.K. Cerkno - ECPv5.10.0//NONSGML v1.0//EN
CALSCALE:GREGORIAN
METHOD:PUBLISH
X-WR-CALNAME:C.M.A.K. Cerkno
X-ORIGINAL-URL:https://cmakcerkno.net
X-WR-CALDESC:Events for C.M.A.K. Cerkno
BEGIN:VTIMEZONE
TZID:Europe/Ljubljana
BEGIN:DAYLIGHT
TZOFFSETFROM:+0100
TZOFFSETTO:+0200
TZNAME:CEST
DTSTART:20140330T010000
END:DAYLIGHT
BEGIN:STANDARD
TZOFFSETFROM:+0200
TZOFFSETTO:+0100
TZNAME:CET
DTSTART:20141026T010000
END:STANDARD
END:VTIMEZONE
BEGIN:VEVENT
DTSTART;TZID=Europe/Ljubljana:20140926T220000
DTEND;TZID=Europe/Ljubljana:20140927T235500
DTSTAMP:20260420T164604
CREATED:20140821T180551Z
LAST-MODIFIED:20140904T202543Z
UID:252-1411768800-1411862100@cmakcerkno.net
SUMMARY:16. festival Cmakajne - 3. del
DESCRIPTION:Več o 16. festivalu Cmakajne tukaj. \nPetek\, 26. 9. \n22.00 C.M.A.K. – Klubski večer: Drawle\, Dave Haze\, Chris C.\, De-Lima\, Anything With Flavour\, Tade \nSobota\, 27. 9. \n20.00 Galerija Križišče – Zaprtje razstave in ogled rezultatov filmskega natečaja \n21.00 C.M.A.K. – Koncert: Roger N. Out\, Them moose rush (Hr)\, Omega Sun
URL:https://cmakcerkno.net/event/16-festival-cmakajne-4/
LOCATION:C.M.A.K. Cerkno\, Bevkova ulica 22\, Cerkno\, 5282\, Slovenija
CATEGORIES:Večzvrstno
ATTACH;FMTTYPE=image/jpeg:https://cmakcerkno.net/wp-content/uploads/2014/08/FB_header_cmakajne14_2.jpg
END:VEVENT
END:VCALENDAR