BEGIN:VCALENDAR
VERSION:2.0
PRODID:-//C.M.A.K. Cerkno - ECPv5.10.0//NONSGML v1.0//EN
CALSCALE:GREGORIAN
METHOD:PUBLISH
X-WR-CALNAME:C.M.A.K. Cerkno
X-ORIGINAL-URL:https://cmakcerkno.net
X-WR-CALDESC:Events for C.M.A.K. Cerkno
BEGIN:VTIMEZONE
TZID:Europe/Ljubljana
BEGIN:DAYLIGHT
TZOFFSETFROM:+0100
TZOFFSETTO:+0200
TZNAME:CEST
DTSTART:20220327T010000
END:DAYLIGHT
BEGIN:STANDARD
TZOFFSETFROM:+0200
TZOFFSETTO:+0100
TZNAME:CET
DTSTART:20221030T010000
END:STANDARD
END:VTIMEZONE
BEGIN:VEVENT
DTSTART;TZID=Europe/Ljubljana:20220603T160000
DTEND;TZID=Europe/Ljubljana:20220605T160000
DTSTAMP:20260420T213043
CREATED:20220523T203027Z
LAST-MODIFIED:20220523T203424Z
UID:4825-1654272000-1654444800@cmakcerkno.net
SUMMARY:15. Tabor Karajžewc
DESCRIPTION:Rožnik je tik pred vrati\, v njegovem razcvetu se bo ponovno zgodil Tabor Karajžewc\, tokrat v že 15-letni izvedbi. \n\n\n\nLetos bo program zajemal pestro število delavnic\, od katerih jih bo veliko namenjeno tako odraslim\, kot otrokom. \n\n\n\nČe’s karajžn al pa ne\, Karajžewc je za vse! \n\n\n\nProgram in ostale informacije najdete na spletni strani: https://karajzewc.wordpress.com/FB dogodek: TUKAJ \ngrafična podoba: Nina Domnik in Manca Slabe
URL:https://cmakcerkno.net/event/15-tabor-karajzewc/
LOCATION:Straža pri Cerknem\, Straža pri Cerknem\, 5282\, Slovenia
CATEGORIES:Festival,glasbeno ustvarjanje,Koncert,Okusno,Predavanje,Prostovoljstvo
END:VEVENT
END:VCALENDAR