BEGIN:VCALENDAR
VERSION:2.0
PRODID:-//C.M.A.K. Cerkno - ECPv5.10.0//NONSGML v1.0//EN
CALSCALE:GREGORIAN
METHOD:PUBLISH
X-WR-CALNAME:C.M.A.K. Cerkno
X-ORIGINAL-URL:https://cmakcerkno.net
X-WR-CALDESC:Events for C.M.A.K. Cerkno
BEGIN:VTIMEZONE
TZID:Europe/Ljubljana
BEGIN:DAYLIGHT
TZOFFSETFROM:+0100
TZOFFSETTO:+0200
TZNAME:CEST
DTSTART:20200329T010000
END:DAYLIGHT
BEGIN:STANDARD
TZOFFSETFROM:+0200
TZOFFSETTO:+0100
TZNAME:CET
DTSTART:20201025T010000
END:STANDARD
END:VTIMEZONE
BEGIN:VEVENT
DTSTART;VALUE=DATE:20200703
DTEND;VALUE=DATE:20200706
DTSTAMP:20260422T122415
CREATED:20200608T075625Z
LAST-MODIFIED:20200608T075849Z
UID:3892-1593734400-1593993599@cmakcerkno.net
SUMMARY:13. tabor Karajžewc
DESCRIPTION:Že 13. tabor Karajžewc ima končno datum!\nVabljeni s šotorom ali brez\, prvi vikend julija\, na travnik blizu sotočja reke Cerknice in Idrijce. \nProgram sledi v prihajajočih dneh…
URL:https://cmakcerkno.net/event/13-tabor-karajzewc/
LOCATION:Straža pri Cerknem\, Straža pri Cerknem\, 5282\, Slovenia
CATEGORIES:Večzvrstno
ATTACH;FMTTYPE=image/jpeg:https://cmakcerkno.net/wp-content/uploads/2020/06/13.Karajzewc.jpg
END:VEVENT
END:VCALENDAR