BEGIN:VCALENDAR
VERSION:2.0
PRODID:-//C.M.A.K. Cerkno - ECPv5.10.0//NONSGML v1.0//EN
CALSCALE:GREGORIAN
METHOD:PUBLISH
X-WR-CALNAME:C.M.A.K. Cerkno
X-ORIGINAL-URL:https://cmakcerkno.net
X-WR-CALDESC:Events for C.M.A.K. Cerkno
BEGIN:VTIMEZONE
TZID:Europe/Ljubljana
BEGIN:DAYLIGHT
TZOFFSETFROM:+0100
TZOFFSETTO:+0200
TZNAME:CEST
DTSTART:20230326T010000
END:DAYLIGHT
BEGIN:STANDARD
TZOFFSETFROM:+0200
TZOFFSETTO:+0100
TZNAME:CET
DTSTART:20231029T010000
END:STANDARD
END:VTIMEZONE
BEGIN:VEVENT
DTSTART;TZID=Europe/Ljubljana:20230303T190000
DTEND;TZID=Europe/Ljubljana:20230308T210000
DTSTAMP:20260420T183651
CREATED:20230209T214000Z
LAST-MODIFIED:20230221T214636Z
UID:5086-1677870000-1678309200@cmakcerkno.net
SUMMARY:10. festival Deuje Babe
DESCRIPTION:10. festival Deuje babe\n\n\n3.–8. marec 2023\, Cerkno in Idrija \nProgram\nPetek\, 3. marec\, ob 19:30\nGalerija Stopnišče\, Večnamenski center Cerkno\nMaja Poljanc\nEncyclopedia Mythologica Slovenica\nOdprtje razstave\nBrezplačno\nNa ogled do 23. marca \nSobota\, 4. marec\, ob 19:00\nPr’ Gabrijelu\, Cerkno\nMaja Dekleva Lapajne\, Alenka Marinič\nIz vode na kopno\nKoncertna predstava v nastajanju in pogovor\nBrezplačno \nSobota\, 4. marec\, ob 21:00\nPr’ Gabrijelu\, Cerkno\nFraw Blanka\nKoncert\nBrezplačno \nSreda\, 8. marec\, ob 19:00\nMednarodni dan žensk\nFilmsko gledališče Idrija\nLaura Poitras\nVsa ta lepota in prelivanje krvi\nDokumentarni film\n5\,00 €\n \nPrizorišča\nGalerija Stopnišče\, Večnamenski center Cerkno\, Bevkova ulica 22\, Cerkno\nFilmsko gledališče Idrija\, Trg sv. Ahacija 5\, Idrija\nPr’ Gabrijelu\, Trg prekomorskih brigad 1\, Cerkno \nPovezave\nDeuje babe na Facebooku\nCmakova spletna stran\nCmak na Facebooku\nCmak na Instagramu
URL:https://cmakcerkno.net/event/10-festival-deuje-babe/
LOCATION:C.M.A.K. Cerkno\, Bevkova ulica 22\, Cerkno\, 5282\, Slovenija
CATEGORIES:CMAKoncert,Deuje babe,Festival,glasbeno ustvarjanje,Gledališče,Razstava
END:VEVENT
END:VCALENDAR